BEGIN:VCALENDAR
VERSION:2.0
PRODID:-//Apple Inc.//iCal 5.0.2//EN
CALSCALE:GREGORIAN
BEGIN:VTIMEZONE
TZID:Australia/
BEGIN:STANDARD
TZOFFSETFROM:+1100
RRULE:FREQ=YEARLY;BYMONTH=4;BYDAY=1SU
DTSTART:20080406T030000
TZNAME:
TZOFFSETTO:+
END:STANDARD
BEGIN:DAYLIGHT
TZOFFSETFROM:+
RRULE:FREQ=YEARLY;BYMONTH=10;BYDAY=1SU
DTSTART:20081005T020000
TZNAME:AEDT
TZOFFSETTO:+1100
END:DAYLIGHT
END:VTIMEZONE
BEGIN:VEVENT
CREATED:20260425T024125
UID:Property20116601Inspection51685429
DTEND;TZID=Australia/:20190302T122000
TRANSP:OPAQUE
SUMMARY:Open For Inspection: 31 Campbell Street, SAFETY BEACH
DESCRIPTION:GREAT HOME - FANTASTIC LOCATION! - The quiet cul-de-sac location offers walking access to most of the major lifestyle attractions this fantastic area has on offer including, 18 hole golf course, Woolgoolga Lake, the beach and Woolgoolga High School. For cycling enthusiasts there is also a cycle way leading south to Woolgoolga and north as far as Corindi Beach. 
The recently renovated home features open plan living, high ceilings and tiled floors. All 3 bedrooms have new carpet and all boast built-ins and fans. The bathroom and kitchen have seen renovations in recent years and both present with appeal. The outdoors are well catered for with a large deck off the 3 bedrooms and a great entertaining deck off the living area, both capturing a view of the ocean. For those who have the capacity or desire to extend there is a great opportunity to build over the top of the double garage and even the deck area where you could have a master bedroom, robe and en-suite plus a second living zone, drawing in the ocean to the north east. 
This appealing home offers potential to improve, convenient access to great amenities and a fresh and appealing appearance. What a great opportunity for investors or live-in purchasers to buy in a quality area!  

LAST-MODIFIED:20260425T024125
DTSTAMP:20260425T024125
DTSTART;TZID=Australia/:20190302T115000
LOCATION:31 Campbell Street SAFETY BEACH NSW 2456
URL:http://www.visionpropertysales.com.au/20116601
SEQUENCE:0
END:VEVENT
END:VCALENDAR
