BEGIN:VCALENDAR
VERSION:2.0
PRODID:-//Apple Inc.//iCal 5.0.2//EN
CALSCALE:GREGORIAN
BEGIN:VTIMEZONE
TZID:Australia/
BEGIN:STANDARD
TZOFFSETFROM:+1100
RRULE:FREQ=YEARLY;BYMONTH=4;BYDAY=1SU
DTSTART:20080406T030000
TZNAME:
TZOFFSETTO:+
END:STANDARD
BEGIN:DAYLIGHT
TZOFFSETFROM:+
RRULE:FREQ=YEARLY;BYMONTH=10;BYDAY=1SU
DTSTART:20081005T020000
TZNAME:AEDT
TZOFFSETTO:+1100
END:DAYLIGHT
END:VTIMEZONE
BEGIN:VEVENT
CREATED:20260425T024123
UID:Property20164246Inspection51685431
DTEND;TZID=Australia/:20190302T131500
TRANSP:OPAQUE
SUMMARY:Open For Inspection: 20 Trafalgar Street, WOOLGOOLGA
DESCRIPTION:FANTASTIC HOME & LOCATION - This quality, 3 bedroom brick and tile home, sits in an elevated, north-facing position, just 2 streets back from the main street, boasting boutique shopping, cafes, restaurants and picturesque main beach. 
The home presents fantastic with 2 bedrooms, bathroom and balcony upstairs, while downstairs offers a third bedroom, media room and an open plan kitchen, dining and lounge room. The living zone overlooks a covered deck area for entertaining and a sparkling saltwater in-ground swimming pool. The home boasts a double lock-up garage, a rear laneway for rear access and a relatively maintenance free yard. 
Positioned in a highly sought after location and a home with nothing to do but move in and enjoy, this is a unique opportunity to secure a quality property in the activity hub of Woolgoolga.
Features:
Ocean views
Swimming Pool
North-Facing, capturing cooling summer breeze
200m walk to cafes, restaurants & boutique shops
300m walk to pristine white sandy beach
Modern kitchen
Rear lane access
No strata fees

LAST-MODIFIED:20260425T024123
DTSTAMP:20260425T024123
DTSTART;TZID=Australia/:20190302T124500
LOCATION:20 Trafalgar Street WOOLGOOLGA NSW 2456
URL:http://www.visionpropertysales.com.au/20164246
SEQUENCE:0
END:VEVENT
END:VCALENDAR
