BEGIN:VCALENDAR
VERSION:2.0
PRODID:-//Apple Inc.//iCal 5.0.2//EN
CALSCALE:GREGORIAN
BEGIN:VTIMEZONE
TZID:Australia/
BEGIN:STANDARD
TZOFFSETFROM:+1100
RRULE:FREQ=YEARLY;BYMONTH=4;BYDAY=1SU
DTSTART:20080406T030000
TZNAME:
TZOFFSETTO:+
END:STANDARD
BEGIN:DAYLIGHT
TZOFFSETFROM:+
RRULE:FREQ=YEARLY;BYMONTH=10;BYDAY=1SU
DTSTART:20081005T020000
TZNAME:AEDT
TZOFFSETTO:+1100
END:DAYLIGHT
END:VTIMEZONE
BEGIN:VEVENT
CREATED:20260425T022917
UID:Property20294410Inspection52748609
DTEND;TZID=Australia/:20200229T111500
TRANSP:OPAQUE
SUMMARY:Open For Inspection: 8 Neptune Close, SAFETY BEACH
DESCRIPTION:REDUCED TO SELL! BE QUICK! - This is yet another example of a quality-built Withers Home! 
Located at the head of a small cul-de-sac, this well-designed family home offers luxury living, in a unique beachside suburb, with a golf course, beach, lake and school all within a short walk of the front door!
The open plan living is highlighted by a modern designer kitchen and this large open zone idyllically opens onto an expansive covered entertaining area. Glass doors, louvre windows and polished timber floors offer loads of appeal and to compliment the quality finishing, the entertaining area is tiled. 
The landscaped yard is predominantly in view of the entertaining area and offers plenty of privacy. There is a media room or formal lounge and the 4-bedroom home includes an en-suite bathroom, walk-in robe and a double lock-up garage. 
This is an appealing home in a fantastic location and the near new home is bound to impress upon inspection! 
Rates: $3,030.29
Land: 619.1m2

LAST-MODIFIED:20260425T022917
DTSTAMP:20260425T022917
DTSTART;TZID=Australia/:20200229T104500
LOCATION:8 Neptune Close SAFETY BEACH NSW 2456
URL:http://www.visionpropertysales.com.au/20294410
SEQUENCE:0
END:VEVENT
END:VCALENDAR
