BEGIN:VCALENDAR
VERSION:2.0
PRODID:-//Apple Inc.//iCal 5.0.2//EN
CALSCALE:GREGORIAN
BEGIN:VTIMEZONE
TZID:Australia/
BEGIN:STANDARD
TZOFFSETFROM:+1100
RRULE:FREQ=YEARLY;BYMONTH=4;BYDAY=1SU
DTSTART:20080406T030000
TZNAME:
TZOFFSETTO:+
END:STANDARD
BEGIN:DAYLIGHT
TZOFFSETFROM:+
RRULE:FREQ=YEARLY;BYMONTH=10;BYDAY=1SU
DTSTART:20081005T020000
TZNAME:AEDT
TZOFFSETTO:+1100
END:DAYLIGHT
END:VTIMEZONE
BEGIN:VEVENT
CREATED:20260425T023557
UID:Property20165253Inspection51658162
DTEND;TZID=Australia/:20190302T113000
TRANSP:OPAQUE
SUMMARY:Open For Inspection: 97 Elinga Street, Howrah
DESCRIPTION:Renovate and Capitalise! - If you have been looking for the perfect renovation project this property with stunning water views and still close to Hobart CBD this could be the one. 

As you walk through the front door into the large entrance area, the kitchen to your right has good storage and adjoining dining room features wooden floor boards that flow throughout the home. 

The light filled living room is well positioned with stunning views of the water and Mt Wellington. The central wood heating is perfect for keeping the home cosy in the winter months. Wood paneling and mid-century inspired cupboards gives this home character and could be the starting point for inspiring an on-trend make-over. 

The main bathroom features a separate shower/bath and toilet.  All three bedrooms have built-in wardrobes with the main bedroom capturing those outstanding water views. 

The living area has access to the sun deck at the front of the property - a great spot to relax and unwind. Underneath the home features the laundry, workshop area and storage. 

In the back yard there is a single carport with service pit, green house, storage for your fire wood and the rest is up to your imagination. 

Located on the Eastern Shore, Howrah is a beautiful beachside suburb with so much to offer, including Shoreline Plaza, supermarkets, cafes, schools, childcare centres, popular beaches, gyms, bowls club and more. 



LAST-MODIFIED:20260425T023557
DTSTAMP:20260425T023557
DTSTART;TZID=Australia/:20190302T110000
LOCATION:97 Elinga Street Howrah TAS 7018
URL:http://www.katestoreyrealty.com.au/20165253
SEQUENCE:0
END:VEVENT
END:VCALENDAR
