BEGIN:VCALENDAR
VERSION:2.0
PRODID:-//Apple Inc.//iCal 5.0.2//EN
CALSCALE:GREGORIAN
BEGIN:VTIMEZONE
TZID:Australia/
BEGIN:STANDARD
TZOFFSETFROM:+1100
RRULE:FREQ=YEARLY;BYMONTH=4;BYDAY=1SU
DTSTART:20080406T030000
TZNAME:
TZOFFSETTO:+
END:STANDARD
BEGIN:DAYLIGHT
TZOFFSETFROM:+
RRULE:FREQ=YEARLY;BYMONTH=10;BYDAY=1SU
DTSTART:20081005T020000
TZNAME:AEDT
TZOFFSETTO:+1100
END:DAYLIGHT
END:VTIMEZONE
BEGIN:VEVENT
CREATED:20260425T023643
UID:Property19676435Inspection51679286
DTEND;TZID=Australia/:20190227T112000
TRANSP:OPAQUE
SUMMARY:Open For Inspection: 24 Spaulding Street, White Beach
DESCRIPTION:Coastal Retreat - This property is positioned overlooking the waterways of the Tasman Peninsula and is sure to be a dreamy experience.

Take a short stroll to the water's edge with your own private access from the property or relax on the large deck, pour a glass of Tasmanian wine and watch the moon rise over the hills or gaze at the stars.

The interior of the property hosts two queen sized bedrooms and the living areas of the home take in those glorious views. The kitchen is complete with walk in panty and quality stainless appliances.  The homes lounge is open to the dining and kitchen areas and flows directly out onto the deck.

The bathroom consists of shower, toilet and vanity and there is also a clever laundry and storage area near the properties entry point. This home is one to inspect and its location is stunning.

Additional Features and Tenancy Specifics:
-Tank Water Supply
-Garden Shed is available (Garage not Included)
-12 Month Lease
-Pets may be considered upon application
-The home must be inspected for tenants to be approved.

Approximate Travel Times:
15 Min Drive to Port Arthur Historic Site
2 Min Drive to Boat Ramp
5 Min Drive to Nubeena, Local Stores, Bakery, Chemist and Hairdresser
55 Min Drive to Sorell Major Shopping Centres and Services
1 Hour and 15 Min. Drive to Hobart International Airport

**The home must be inspected for tenants to be approved**
LAST-MODIFIED:20260425T023643
DTSTAMP:20260425T023643
DTSTART;TZID=Australia/:20190227T110000
LOCATION:24 Spaulding Street White Beach TAS 7184
URL:http://www.katestoreyrealty.com.au/19676435
SEQUENCE:0
END:VEVENT
END:VCALENDAR
