BEGIN:VCALENDAR
VERSION:2.0
PRODID:-//Apple Inc.//iCal 5.0.2//EN
CALSCALE:GREGORIAN
BEGIN:VTIMEZONE
TZID:Australia/
BEGIN:STANDARD
TZOFFSETFROM:+1100
RRULE:FREQ=YEARLY;BYMONTH=4;BYDAY=1SU
DTSTART:20080406T030000
TZNAME:
TZOFFSETTO:+
END:STANDARD
BEGIN:DAYLIGHT
TZOFFSETFROM:+
RRULE:FREQ=YEARLY;BYMONTH=10;BYDAY=1SU
DTSTART:20081005T020000
TZNAME:AEDT
TZOFFSETTO:+1100
END:DAYLIGHT
END:VTIMEZONE
BEGIN:VEVENT
CREATED:20260425T020034
UID:Property20283495Inspection52743417
DTEND;TZID=Australia/:20200227T122000
TRANSP:OPAQUE
SUMMARY:Open For Inspection: 18/2 Berwick Street, FORTITUDE VALLEY
DESCRIPTION:Top RENTAL RETURNS. Top POSITION. MASSIVE 131sqm of Living Space - Two bedroom apartment with separate home office space. Bedrooms are located on opposite sides of the unit providing privacy and are connected by a very spacious living area. The complex features a crystal lap pool, gym and secure garage with visitor parking. 

Fortitude Valley is one of the most fashionable residential precincts in the Inner-City. Located only minutes away from the CBD, 'FV4006' is at the hub of a vibrant urban lifestyle of cafes, art galleries, theatres, shopping and recreational facilities, while being conveniently tucked away on a quiet street. 'FV4006' is a boutique apartment complex situated on Berwick Street, located between the James St precinct and Brunswick Street entertainment hub - there is no better address!

Notables:
Rent Returns : $1,920 per month approx
Total area: 131sqm
Internal: 91m2
External: 25m2+ Car Park 15m2
Outgoings : 
Body Corp: $1,605.00 p.q. (approx) 
Council Rates: $314.20 p.q. (approx) 
Urban Utilities: $236.30 p.q. (approx)

Features:
- Large open plan kitchen with plenty of storage 
- Bedrooms both have built-in robes 
- Large ensuite to main bedroom
- Gym, pool, onsite management, CCTV and visitor parking 
- Close to Valley and China Town Mall shopping and dining precincts
- Airport in 15 mins and direct access to all major arterial roads
- Strong rental return in a central location

Sensational location - walk to everything the Valley, New Farm and City has to offer. This apartment has the style and design which sets it apart from everything else in the market. Call today to arrange your inspection, you won't be disappointed!

Disclaimer: RE/MAX has been furnished with the above information, however, the Office and the Agent provides no guarantees, undertakings or warnings concerning the accuracy, completeness or up-to-date nature of the information provided by the Vendor or other Persons. All interested parties are responsible for their own independent inquiries in order to determine whether or not this information is in fact accurate.

LAST-MODIFIED:20260425T020034
DTSTAMP:20260425T020034
DTSTART;TZID=Australia/:20200227T120000
LOCATION:18/2 Berwick Street FORTITUDE VALLEY QLD 4006
URL:http://www.zenestateagents.com.au/20283495
SEQUENCE:0
END:VEVENT
END:VCALENDAR
