BEGIN:VCALENDAR
VERSION:2.0
PRODID:-//Apple Inc.//iCal 5.0.2//EN
CALSCALE:GREGORIAN
BEGIN:VTIMEZONE
TZID:Australia/
BEGIN:STANDARD
TZOFFSETFROM:+1100
RRULE:FREQ=YEARLY;BYMONTH=4;BYDAY=1SU
DTSTART:20080406T030000
TZNAME:
TZOFFSETTO:+
END:STANDARD
BEGIN:DAYLIGHT
TZOFFSETFROM:+
RRULE:FREQ=YEARLY;BYMONTH=10;BYDAY=1SU
DTSTART:20081005T020000
TZNAME:AEDT
TZOFFSETTO:+1100
END:DAYLIGHT
END:VTIMEZONE
BEGIN:VEVENT
CREATED:20260425T015920
UID:Property20281457Inspection52752880
DTEND;TZID=Australia/:20200201T135000
TRANSP:OPAQUE
SUMMARY:Open For Inspection: 455 Brunswick Street, FORTITUDE VALLEY
DESCRIPTION:Location - Offers Above $180k - Fully Furnished Studio - In the heart of the Valley!
Perfect for the astute investor or owner occupiers,
Experience the vibrant Fortitude Valley lifestyle. This fully furnished studio apartment is within walking distance to: China Town, fabulous restaurants, groovy boutiques, funky little cafes, Valley Markets, James Street, and the new Howard Wharves and more.

* Fully Furnished studio apartment.
* Built in cupboards.
* Modern galley kitchenette.
* Modern bathroom with bath tub.
* Air conditioning.
* Balcony.
* The building Brunswick Central amenities include: spa, gym and communal entertaining area.

This property will be snapped up quickly, make sure to call now on 0433814236 and book your viewing so you don't miss out.

Property Particulars:

Total Area 37 m2

Body Corp $1,430 p/q approx
Water $268 p/q approx
Council $431 p/q approx

Rented until 9 August 2022
Rental return $28090
A trusted name for many years, Antoine's Team specializes in the 4006/4000 Brisbane City Postcode areas, having helped countless buyers and sellers achieve their lifestyle and investment goals Antoine looks forward to meeting you soon to cater for all your real-estate needs.

We look forward to showing you through.

Disclaimer: RE/MAX has been furnished with the above information, however, the Office and the Agent provides no guarantees, undertakings or warnings concerning the accuracy, completeness or up-to-date nature of the information provided by the Vendor or other Persons. All interested parties are responsible for their own independent inquiries in order to determine whether or not this information is in fact accurate.
LAST-MODIFIED:20260425T015920
DTSTAMP:20260425T015920
DTSTART;TZID=Australia/:20200201T133000
LOCATION:455 Brunswick Street FORTITUDE VALLEY QLD 4006
URL:http://www.zenestateagents.com.au/20281457
SEQUENCE:0
END:VEVENT
END:VCALENDAR
