BEGIN:VCALENDAR
VERSION:2.0
PRODID:-//Apple Inc.//iCal 5.0.2//EN
CALSCALE:GREGORIAN
BEGIN:VTIMEZONE
TZID:Australia/
BEGIN:STANDARD
TZOFFSETFROM:+1100
RRULE:FREQ=YEARLY;BYMONTH=4;BYDAY=1SU
DTSTART:20080406T030000
TZNAME:
TZOFFSETTO:+
END:STANDARD
BEGIN:DAYLIGHT
TZOFFSETFROM:+
RRULE:FREQ=YEARLY;BYMONTH=10;BYDAY=1SU
DTSTART:20081005T020000
TZNAME:AEDT
TZOFFSETTO:+1100
END:DAYLIGHT
END:VTIMEZONE
BEGIN:VEVENT
CREATED:20260425T020025
UID:Property20279133Inspection52755111
DTEND;TZID=Australia/:20200307T143000
TRANSP:OPAQUE
SUMMARY:Open For Inspection: L1/2 Macquarie Street, TENERIFFE
DESCRIPTION:Executive Apartment in Heart of Teneriffe! Must Inspect - Notable Features:
Located on the 1st floor 
Internal: m2 External: m2 Total: 78m2
Rental Return: $360 p.w. Lease Til: 17/03/2020
Body Corporate: $845 p.q. approx
Urban Utilities: $301. p.q. approx
Council Rates: $417.15 p.q. approx
Building Name: Macquarie Teneriffe
Built Date: 1996
Total Floors: 2 residential levels
Total Apartments: 16 Units
Car Park: 


View: www.joemacalino.com.au/1706
Featuring a generous floor plan this executive one-bedroom apartment offers all the lifestyle choices that Teneriffe has to offer - cafes, restaurants, public transport and much more!

- Kitchen with granite benches & stainless steel appliances
- Gas cooking 
- Polished timber floors, high ceilings, air-conditioning
- Secure car parking 
- Close to all public transport 
- Architect designed complex 
- Walk to New Farm cafes, river, parks, CBD & more


The ideal metropolitan investment has arrived. Characterized by modern functionality, location convenience, and unrivalled affordability, this is a value offering not to be missed. Idyllically positioned in Teneriffe, you'll find yourself within easy minutes to Brisbane's most coveted shopping, dining and entertainment venues, and a stone's throw from the Valley, New Farm, CBD, and public transport is undoubtedly the perfect location for investors and owner occupier's alike. 

The unit itself is stylish and contemporary functionality. With 1 generous bedroom--good sizes bathroom. Dining and living area offers high ceiling, natural light and polished timber floors. The clever floorplan of this unit boasts seamless integration and flows onto a breezy entertainer's balcony. Filled with abundant natural light, and situated on level 1 of the building, this is a great opportunity to secure a tranquil hideaway in the hub of Teneriffe. 

A trusted name for many years, The Joe Macalino Team specializes in the Bowen Hills area, having helped countless buyers and sellers achieve their lifestyle and investment goals. Antoine and The Macalino Team look forward to meeting you soon to cater for all your real-estate needs.

Disclaimer: RE/MAX has been furnished with the above information, however, the Office and the Agent provides no guarantees, undertakings or warnings concerning the accuracy, completeness or up-to-date nature of the information provided by the Vendor or other Persons. All interested parties are responsible for their own independent inquiries in order to determine whether or not this information is in fact accurate.
LAST-MODIFIED:20260425T020025
DTSTAMP:20260425T020025
DTSTART;TZID=Australia/:20200307T140000
LOCATION:L1/2 Macquarie Street TENERIFFE QLD 4005
URL:http://www.zenestateagents.com.au/20279133
SEQUENCE:0
END:VEVENT
END:VCALENDAR
