BEGIN:VCALENDAR
VERSION:2.0
PRODID:-//Apple Inc.//iCal 5.0.2//EN
CALSCALE:GREGORIAN
BEGIN:VTIMEZONE
TZID:Australia/
BEGIN:STANDARD
TZOFFSETFROM:+1100
RRULE:FREQ=YEARLY;BYMONTH=4;BYDAY=1SU
DTSTART:20080406T030000
TZNAME:
TZOFFSETTO:+
END:STANDARD
BEGIN:DAYLIGHT
TZOFFSETFROM:+
RRULE:FREQ=YEARLY;BYMONTH=10;BYDAY=1SU
DTSTART:20081005T020000
TZNAME:AEDT
TZOFFSETTO:+1100
END:DAYLIGHT
END:VTIMEZONE
BEGIN:VEVENT
CREATED:20260425T014614
UID:Property20206983Inspection52759721
DTEND;TZID=Australia/:20200302T175500
TRANSP:OPAQUE
SUMMARY:Open For Inspection: 24/204 Wellington Rd, EAST BRISBANE
DESCRIPTION:Price Slashed 2 Meet Marketplace . S.A.O. - Price Guide: Offers over $310K Submit All Offers!
Please contact the Agent before open times may change! 
Notable Features
The Property: 1 Bed | 1 Bath | 1 car park + Large storage cage
This property is on the new section of Solitude Apartments
Level: 2
Internal: 51m2  External: 24m2  Total: 75m2
Rental Return: $355 p.w      Lease: Periodical Agreement
Body Corporate: $1,202.15 p.q. (approx.)
Council Rates: $374.60 p.q. (approx.)
Urban Utilities: $280.38 p.q. (approx.)
Car Park #24


The Complex:
Built Date: 2011
Total Units: 28
Floors: 3
Facilities: Swimming Pool

Your next best investment awaits you at Solitude. This complex is conveniently situated just a short drive away from the CBD and Fortitude Valley. Location is very convenient, surrounded by plenty of local cafes and popular eateries to meet all your dining and entertaining needs. Don't miss out on this hot property with scenic city views and live in serenity with the river. Esplanade and Mowbray Park just a short stroll away.

The unit is one of 28 in the complex and is abundant with natural light. The property is incredibly spacious and includes a large balcony offering a perfect area for entertaining and a refreshing breath of fresh air.

Come home to an open living space that extends into a sleek and modern kitchen equipped with a full-functioning oven and dishwasher. Storage will never be an issue in this space with plenty of drawers and cupboards fitted for all your cooking needs. After long day, retreat to a generously sized bedroom and rinse off your daily stresses in the contemporary bathroom or dive into the pool for a moment of solitude.

Don't miss out on this amazing property and its combined lifestyle.

* amazing location, close to the river, shops, cafe, public transport and CBD
* bright and spacious living areas
* modern finishes, dishwasher and dryer included
* large balcony for entertaining with scenic views
* swimming pool



We look forward to showing you through the property.

A trusted name for many years, The Antoine Velez Team specializes in the 4006/4000 Brisbane City Postcode areas, having helped countless buyers and sellers achieve their lifestyle and investment goals. Antoine looks forward to meeting you soon to cater for all your real-estate needs.

Disclaimer: RE/MAX has been furnished with the above information, however, the Office and the Agent provides no guarantees, undertakings or warnings concerning the accuracy, completeness or up-to-date nature of the information provided by the Vendor or other Persons. All interested parties are responsible for their own independent inquiries in order to determine whether or not this information is in fact accurate.
LAST-MODIFIED:20260425T014614
DTSTAMP:20260425T014614
DTSTART;TZID=Australia/:20200302T173000
LOCATION:24/204 Wellington Rd EAST BRISBANE QLD 4169
URL:http://www.zenestateagents.com.au/20206983
SEQUENCE:0
END:VEVENT
END:VCALENDAR
