BEGIN:VCALENDAR
VERSION:2.0
PRODID:-//Apple Inc.//iCal 5.0.2//EN
CALSCALE:GREGORIAN
BEGIN:VTIMEZONE
TZID:Australia/
BEGIN:STANDARD
TZOFFSETFROM:+1100
RRULE:FREQ=YEARLY;BYMONTH=4;BYDAY=1SU
DTSTART:20080406T030000
TZNAME:
TZOFFSETTO:+
END:STANDARD
BEGIN:DAYLIGHT
TZOFFSETFROM:+
RRULE:FREQ=YEARLY;BYMONTH=10;BYDAY=1SU
DTSTART:20081005T020000
TZNAME:AEDT
TZOFFSETTO:+1100
END:DAYLIGHT
END:VTIMEZONE
BEGIN:VEVENT
CREATED:20260425T014543
UID:Property19618175Inspection52762299
DTEND;TZID=Australia/:20200302T170000
TRANSP:OPAQUE
SUMMARY:Open For Inspection: 39A Munro Street, AUCHENFLOWER
DESCRIPTION:STUNNING, LARGE & LUXURIOUS, AS NEW ONE BEDROOM APARTMENT! - Be absolutely impressed when you walk in the door of your as new one bedroom unit in such a fantastic location. 

Beautifully designed and finished, this apartment features:

- Large open plan living area with air conditioning.
- Beautiful, well equipped kitchen with stone bench tops and dishwasher.
- Stunning bathroom with included towel heater!
- Internal laundry.
- Huge master bedroom with air con, built in desk, ceiling fan & built ins. 
- Extra storage space.
- Undercover car space.

Discounted utilities - Landlords will hold the internet and power accounts - tenant will be charged 50% of usage!

This really is a lovely property. An inspection will not disappoint!

Please enquire today to be informed of open home times and potential viewings. 

LAST-MODIFIED:20260425T014543
DTSTAMP:20260425T014543
DTSTART;TZID=Australia/:20200302T164500
LOCATION:39A Munro Street AUCHENFLOWER QLD 4066
URL:http://www.zenestateagents.com.au/19618175
SEQUENCE:0
END:VEVENT
END:VCALENDAR
