BEGIN:VCALENDAR
VERSION:2.0
PRODID:-//Apple Inc.//iCal 5.0.2//EN
CALSCALE:GREGORIAN
BEGIN:VTIMEZONE
TZID:Australia/
BEGIN:STANDARD
TZOFFSETFROM:+1100
RRULE:FREQ=YEARLY;BYMONTH=4;BYDAY=1SU
DTSTART:20080406T030000
TZNAME:
TZOFFSETTO:+
END:STANDARD
BEGIN:DAYLIGHT
TZOFFSETFROM:+
RRULE:FREQ=YEARLY;BYMONTH=10;BYDAY=1SU
DTSTART:20081005T020000
TZNAME:AEDT
TZOFFSETTO:+1100
END:DAYLIGHT
END:VTIMEZONE
BEGIN:VEVENT
CREATED:20260425T010706
UID:Property20654987Inspection53762941
DTEND;TZID=Australia/:20210302T141500
TRANSP:OPAQUE
SUMMARY:Open For Inspection: 1/51 Skene Street, Colac
DESCRIPTION:LOW MAINTENANCE & QUIET LIVING - Situated in one of the best spots in town and in a very quiet complex of only four, this front stand alone two bedroom unit will have everyone lining up to want to take a look.

Being within walking distance to the centre of town for that morning coffee or very quick drive to supermarket, this home is perfect for someone wanting low maintenance living.

This unit boasts:

>  two bedrooms both with built in robes
>  large reverse cycle air conditioner as well as ceiling fans
>  kitchen equipped with electric cooking
>  well appointed bathroom with separate bath and shower
>  private outdoor area leading straight to you single car garage.


This unit is neat as a pin and ready to move in! Be sure to register your details for an upcoming inspection of this neat little gem.
LAST-MODIFIED:20260425T010706
DTSTAMP:20260425T010706
DTSTART;TZID=Australia/:20210302T140000
LOCATION:1/51 Skene Street Colac VIC 3250
URL:http://www.hfrcolac.com.au/20654987
SEQUENCE:0
END:VEVENT
END:VCALENDAR
