BEGIN:VCALENDAR
VERSION:2.0
PRODID:-//Apple Inc.//iCal 5.0.2//EN
CALSCALE:GREGORIAN
BEGIN:VTIMEZONE
TZID:Australia/
BEGIN:STANDARD
TZOFFSETFROM:+1100
RRULE:FREQ=YEARLY;BYMONTH=4;BYDAY=1SU
DTSTART:20080406T030000
TZNAME:
TZOFFSETTO:+
END:STANDARD
BEGIN:DAYLIGHT
TZOFFSETFROM:+
RRULE:FREQ=YEARLY;BYMONTH=10;BYDAY=1SU
DTSTART:20081005T020000
TZNAME:AEDT
TZOFFSETTO:+1100
END:DAYLIGHT
END:VTIMEZONE
BEGIN:VEVENT
CREATED:20260425T024412
UID:Property8738133Inspection51683711
DTEND;TZID=Australia/:20190227T144500
TRANSP:OPAQUE
SUMMARY:Open For Inspection: 13 Sophie Street, GOONELLABAH
DESCRIPTION:Large 5 Bedroom House - This modern brick-and-tile home has space for everyone! Featuring two separate living areas and a large open-plan kitchen and dining area, it's designed for easy family living and entertaining.

Upstairs includes four generous bedrooms, with the main offering a walk-in robe and private ensuite. Downstairs, a fifth bedroom with its own ensuite and walk-in robe is perfect for guests or extended family.

Other highlights include a double lock-up garage with internal access, and a great location close to shops, schools, and sporting fields.

Features:
- 5 bedrooms, 3 bathrooms
- 2 seperate living areas
- Large kitchen and dining area
- Double lock-up garage with internal access

LAST-MODIFIED:20260425T024412
DTSTAMP:20260425T024412
DTSTART;TZID=Australia/:20190227T143000
LOCATION:13 Sophie Street GOONELLABAH NSW 2480
URL:http://www.rgsrealestate.com.au//8738133
SEQUENCE:0
END:VEVENT
END:VCALENDAR
