BEGIN:VCALENDAR
VERSION:2.0
PRODID:-//Apple Inc.//iCal 5.0.2//EN
CALSCALE:GREGORIAN
BEGIN:VTIMEZONE
TZID:Australia/
BEGIN:STANDARD
TZOFFSETFROM:+1100
RRULE:FREQ=YEARLY;BYMONTH=4;BYDAY=1SU
DTSTART:20080406T030000
TZNAME:
TZOFFSETTO:+
END:STANDARD
BEGIN:DAYLIGHT
TZOFFSETFROM:+
RRULE:FREQ=YEARLY;BYMONTH=10;BYDAY=1SU
DTSTART:20081005T020000
TZNAME:AEDT
TZOFFSETTO:+1100
END:DAYLIGHT
END:VTIMEZONE
BEGIN:VEVENT
CREATED:20260425T031511
UID:Property20058979Inspection51688821
DTEND;TZID=Australia/:20190302T103000
TRANSP:OPAQUE
SUMMARY:Open For Inspection: 78A Invercauld Rd, GOONELLABAH
DESCRIPTION:Tinker bell - Own a piece of your own rain forest! Live your own fairy tale in this "Tinkerbell " blue Queenslander, over looking your own rain forest block. Watch the koalas, water dragons, kookaburras ,and listen to the seasonal creek from your entertaining deck, large enough for guests and family. Set back from the road it is a peaceful and relaxed retreat, waiting for you to make it your home. Ready to move in and  take your time making your mark upon this sweet rain forest Gem. The perfect lifestyle, 5 minutes drive from Lismore city center, close to Southern Cross University Beautifully presented,  with the option of purchase with the styling in place. Pack your toothbrush and MOVE IN ! Security system installed, air conditioned and engineeringly structurally sound with modern steel supports Fall in love with the versatility of this "rain forest Fairy". 

• Great starter home 
• Great Investment for short or long term rental 
• Great Down sizer
LAST-MODIFIED:20260425T031511
DTSTAMP:20260425T031511
DTSTART;TZID=Australia/:20190302T100000
LOCATION:78A Invercauld Rd GOONELLABAH NSW 2480
URL:http://www.rgsrealestate.com.au//20058979
SEQUENCE:0
END:VEVENT
END:VCALENDAR
