BEGIN:VCALENDAR
VERSION:2.0
PRODID:-//Apple Inc.//iCal 5.0.2//EN
CALSCALE:GREGORIAN
BEGIN:VTIMEZONE
TZID:Australia/
BEGIN:STANDARD
TZOFFSETFROM:+1100
RRULE:FREQ=YEARLY;BYMONTH=4;BYDAY=1SU
DTSTART:20080406T030000
TZNAME:
TZOFFSETTO:+
END:STANDARD
BEGIN:DAYLIGHT
TZOFFSETFROM:+
RRULE:FREQ=YEARLY;BYMONTH=10;BYDAY=1SU
DTSTART:20081005T020000
TZNAME:AEDT
TZOFFSETTO:+1100
END:DAYLIGHT
END:VTIMEZONE
BEGIN:VEVENT
CREATED:20260425T024327
UID:Property20134491Inspection51689025
DTEND;TZID=Australia/:20190304T154500
TRANSP:OPAQUE
SUMMARY:Open For Inspection: 7 Crown St,, Lismore
DESCRIPTION:7 Crown St, South Lismore - Three bedroom home in sunny South Lismore. Huge deck with retractable awning all set on a double block. Tastefully renovated throughout with lock up garage. Plenty of storage under house on a fully concreted base, also concreted in shedding beside home. Includes all mowing and gardening maintenance.
LAST-MODIFIED:20260425T024327
DTSTAMP:20260425T024327
DTSTART;TZID=Australia/:20190304T153000
LOCATION:7 Crown St, Lismore NSW 2480
URL:http://www.rgsrealestate.com.au//20134491
SEQUENCE:0
END:VEVENT
END:VCALENDAR
