BEGIN:VCALENDAR
VERSION:2.0
PRODID:-//Apple Inc.//iCal 5.0.2//EN
CALSCALE:GREGORIAN
BEGIN:VTIMEZONE
TZID:Australia/
BEGIN:STANDARD
TZOFFSETFROM:+1100
RRULE:FREQ=YEARLY;BYMONTH=4;BYDAY=1SU
DTSTART:20080406T030000
TZNAME:
TZOFFSETTO:+
END:STANDARD
BEGIN:DAYLIGHT
TZOFFSETFROM:+
RRULE:FREQ=YEARLY;BYMONTH=10;BYDAY=1SU
DTSTART:20081005T020000
TZNAME:AEDT
TZOFFSETTO:+1100
END:DAYLIGHT
END:VTIMEZONE
BEGIN:VEVENT
CREATED:20260425T031454
UID:Property20137323Inspection51690177
DTEND;TZID=Australia/:20190302T113000
TRANSP:OPAQUE
SUMMARY:Open For Inspection: 74 Wilson Street, SOUTH LISMORE
DESCRIPTION:Wining On Wilson - This beautiful and spacious turn of the century weatherboard family home is prominently set on a massive 1341 square meter block. It is an elevated home with a sunny aspect overlooking the nearby sporting ovals. Upon entering this stunning lovingly renovated home you will discover the fine attention to period detail that has been kept throughout the renovation. The newly renovated kitchen is fitted with a new electric stove, dishwasher and breakfast bar. The spacious open plan living and dining rooms open onto the back veranda overlooking the backyard - ideal for summer entertaining. downstairs you will find the tandem double garage and the spacious workshop area/ rumpus for the kids and the second bathroom.

The master bedroom is spacious and features a separate room that could be used as a study or massive walk-in wardrobe, The brand new main bathroom also features a full-size bathtub with a separate shower and large vanity.

The enormous block is perfectly level that also features a rear lane access. Car accommodation is all taken care of with the tandem garage and triple carport. 

This special home is a genuine one of a kind. With an easy walk to the south Lismore primary school, Lismore bowling club and all the CBD has to offer.
LAST-MODIFIED:20260425T031454
DTSTAMP:20260425T031454
DTSTART;TZID=Australia/:20190302T110000
LOCATION:74 Wilson Street SOUTH LISMORE NSW 2480
URL:http://www.rgsrealestate.com.au//20137323
SEQUENCE:0
END:VEVENT
END:VCALENDAR
