BEGIN:VCALENDAR
VERSION:2.0
PRODID:-//Apple Inc.//iCal 5.0.2//EN
CALSCALE:GREGORIAN
BEGIN:VTIMEZONE
TZID:Australia/
BEGIN:STANDARD
TZOFFSETFROM:+1100
RRULE:FREQ=YEARLY;BYMONTH=4;BYDAY=1SU
DTSTART:20080406T030000
TZNAME:
TZOFFSETTO:+
END:STANDARD
BEGIN:DAYLIGHT
TZOFFSETFROM:+
RRULE:FREQ=YEARLY;BYMONTH=10;BYDAY=1SU
DTSTART:20081005T020000
TZNAME:AEDT
TZOFFSETTO:+1100
END:DAYLIGHT
END:VTIMEZONE
BEGIN:VEVENT
CREATED:20260425T015817
UID:Property20170749Inspection52736909
DTEND;TZID=Australia/:20200227T161500
TRANSP:OPAQUE
SUMMARY:Open For Inspection: 14 Stevenson Street, GOONELLABAH
DESCRIPTION:1 Bedroom Studio - Very neat & tidy self contained 1 bedroom studio located in Goonellabah. 
Modern Kitchenette & bathroom. Shared laundry. In Private quiet location. Close to Uni, 5 min drive to Goonellabah shops.

IMPORTANT INFORMATION - PLEASE READ
• Applications must be lodged before a viewing can be organised due to the high number of enquires. 
• Only applicants who are pre-approved will be invited to inspect the property.
• Apply here: https://www.rgsrealestate.com.au/tenant-forms/tenancy-application
• Please do not attend or enter the property without a scheduled appointment. 
• Applications that do not comply with these instructions will not be approved.

LAST-MODIFIED:20260425T015817
DTSTAMP:20260425T015817
DTSTART;TZID=Australia/:20200227T160000
LOCATION:14 Stevenson Street GOONELLABAH NSW 2480
URL:http://www.rgsrealestate.com.au//20170749
SEQUENCE:0
END:VEVENT
END:VCALENDAR
