BEGIN:VCALENDAR
VERSION:2.0
PRODID:-//Apple Inc.//iCal 5.0.2//EN
CALSCALE:GREGORIAN
BEGIN:VTIMEZONE
TZID:Australia/
BEGIN:STANDARD
TZOFFSETFROM:+1100
RRULE:FREQ=YEARLY;BYMONTH=4;BYDAY=1SU
DTSTART:20080406T030000
TZNAME:
TZOFFSETTO:+
END:STANDARD
BEGIN:DAYLIGHT
TZOFFSETFROM:+
RRULE:FREQ=YEARLY;BYMONTH=10;BYDAY=1SU
DTSTART:20081005T020000
TZNAME:AEDT
TZOFFSETTO:+1100
END:DAYLIGHT
END:VTIMEZONE
BEGIN:VEVENT
CREATED:20260425T024106
UID:Property20362651Inspection52745980
DTEND;TZID=Australia/:20200229T100000
TRANSP:OPAQUE
SUMMARY:Open For Inspection: 24 San Marino Way, ZILZIE
DESCRIPTION:Simple Touches Set the Style!! - Just one look at this property is all you will need. Located in the Zilzie Bay Estate this Low Set 4 Bedroom Home is well presented has Sea Views and a beautiful outlook. 
Features Include: 
* Open Plan Living and Dining
* Master Bedroom with Ensuite, Split System Air Conditioning and Walk in Robe
* 3 Additional Bedrooms with Built In Robes and Ceiling Fans
* Modern Kitchen with a Indesit 900 Dual Fuel Range Freestanding Cooker
* Main Bathroom with a Bath and Open Shower 
* Led Lights throughout
* Linen cupboard with Power Points
* Separate Toilet
* Office Nook
* Good Side Access plenty of Space for a Shed and Pool
* Beach Access just Meters Away
* Outdoor Entertaining Area to take in the Sea View
* Laundry and Good Storage in the Double Lock Up Garage
* School Bus Service Public and Private
* Chemist, Doctors and Gym Just Minutes Away
* Coorooman Creek Boat Ramp close By
Emu Park Town Centre has a IGA Supermarket, Specialty Shops, Pub, Medical Facilities, Pool, Sports Ground, Surf Lifesaving and Parks with BBQ Areas to entertain the family. Contact me to Inspect by Appointment Tanya Edwards Mobile: 0400304240.

LAST-MODIFIED:20260425T024106
DTSTAMP:20260425T024106
DTSTART;TZID=Australia/:20200229T093000
LOCATION:24 San Marino Way ZILZIE QLD 4710
URL:http://www.emuparkrealestate.com.au/20362651
SEQUENCE:0
END:VEVENT
END:VCALENDAR
