BEGIN:VCALENDAR
VERSION:2.0
PRODID:-//Apple Inc.//iCal 5.0.2//EN
CALSCALE:GREGORIAN
BEGIN:VTIMEZONE
TZID:Australia/
BEGIN:STANDARD
TZOFFSETFROM:+1100
RRULE:FREQ=YEARLY;BYMONTH=4;BYDAY=1SU
DTSTART:20080406T030000
TZNAME:
TZOFFSETTO:+
END:STANDARD
BEGIN:DAYLIGHT
TZOFFSETFROM:+
RRULE:FREQ=YEARLY;BYMONTH=10;BYDAY=1SU
DTSTART:20081005T020000
TZNAME:AEDT
TZOFFSETTO:+1100
END:DAYLIGHT
END:VTIMEZONE
BEGIN:VEVENT
CREATED:20260425T024027
UID:Property20363314Inspection52745988
DTEND;TZID=Australia/:20200229T104500
TRANSP:OPAQUE
SUMMARY:Open For Inspection: 37 Cocoanut Point Drive, Zilzie
DESCRIPTION:Designed for a Family to Live in Comfort!! - Nothing to do just move in! Consider this Premier Position to be when you buy your new forever home. Located in the Sea Spray Estate in Zilzie you can enjoy the benefits of having access to a Gym, Chemist, Doctors Surgery and Cafe just meters away!!
Features Include:
* Freshly Painted Inside and Out
* Elevated to Capture a Partial Sea View and Breeze
* 9 ft Ceilings Throughout
* Master Bedroom with Twin Showers in Ensuite and Built in Robe
* 3 Additional Bedrooms with Built in Robes
* Main Bathroom with a Corner Bath and Shower Recess
* Separate Powder Room and Toilet both up and Down Stairs
* Expansive Laundry with great Storage
* Security Screens, Fans and Split System Air conditioning Throughout
* Media Room on the Upstairs Level
* Office Nook
* Open Plan Living, Dining area leading out onto the Rear Enclosed Patio with Rear Stairs
* Modern Kitchen with Granite Bench Tops a Belling 900 mm Dual Fuel Freestanding Cooker, Breakfast Bar with additional Power Points and well appointed Storage
* Wide internal Staircase
* Side Access, Water Tank and Garden Shed
* Bus Service Close By
* Minutes From Emu Park School and Hartley Street Sports Ground
The Property has Good Side access and plenty of room for a shed and Pool. Yeppoon is only Approx 15 Minutes away and only a 40 Minute commute to Rockhampton Contact me today to view by Appointment. Tanya Edwards Mobile: 0400 304 240

LAST-MODIFIED:20260425T024027
DTSTAMP:20260425T024027
DTSTART;TZID=Australia/:20200229T101500
LOCATION:37 Cocoanut Point Drive Zilzie QLD 4710
URL:http://www.emuparkrealestate.com.au/20363314
SEQUENCE:0
END:VEVENT
END:VCALENDAR
