BEGIN:VCALENDAR
VERSION:2.0
PRODID:-//Apple Inc.//iCal 5.0.2//EN
CALSCALE:GREGORIAN
BEGIN:VTIMEZONE
TZID:Australia/
BEGIN:STANDARD
TZOFFSETFROM:+1100
RRULE:FREQ=YEARLY;BYMONTH=4;BYDAY=1SU
DTSTART:20080406T030000
TZNAME:
TZOFFSETTO:+
END:STANDARD
BEGIN:DAYLIGHT
TZOFFSETFROM:+
RRULE:FREQ=YEARLY;BYMONTH=10;BYDAY=1SU
DTSTART:20081005T020000
TZNAME:AEDT
TZOFFSETTO:+1100
END:DAYLIGHT
END:VTIMEZONE
BEGIN:VEVENT
CREATED:20260425T023953
UID:Property20367340Inspection52745994
DTEND;TZID=Australia/:20200229T123000
TRANSP:OPAQUE
SUMMARY:Open For Inspection: 209-219 Auton and Johnson Road, THE CAVES
DESCRIPTION:Perfectly Placed for Country Life!! - Exceptional 4 Bedroom/2 Bathroom home on 6 acres boasting Impressive finishes and inclusions throughout the home to create a sense of style and sophistication. Just sit back, take in the 360 Degree Views and Relax. This Beautiful home has so much on offer catering for a Large Family or Dual Living potential. 
Features Include:
* Master Suite with Walk In Robe and 2 Way Ensuite
* Separate Toilet and Powder Room
* 3 Additional Bedrooms with Built in Robes 
* Large Main Bathroom with a Bath and Shower Recess, Separate Toilet
* Activity Room with a Kitchenette
* Entertainers Delight with this kitchen - Quality Appliances and Walk in Pantry 
* Good Size Separate Laundry 
* Raked Ceilings throughout the Open Plan Lounge Dinning Kitchen
* Split System Air Conditioning, Security Screens and Ceiling Fans Throughout
* Plenty of Storage
* Massive Rear Patio for Entertaining or enjoying the outlook
* NBN
* Separate Fence Around the House
* 5 kilowatt Solar System with 20 Panels
* Fully Fenced with Brand New Fences at the Front and Rear of the Property
* Powered 15m x 6m Shed with a Bathroom and Toilet, Security Screens + Double Carport off the Front 
* Town Water
* Rubbish Collection
* School Bus Service Primary and High School
This Exceptional  home has so much on Offer!! 

LAST-MODIFIED:20260425T023953
DTSTAMP:20260425T023953
DTSTART;TZID=Australia/:20200229T120000
LOCATION:209-219 Auton and Johnson Road THE CAVES QLD 4702
URL:http://www.emuparkrealestate.com.au/20367340
SEQUENCE:0
END:VEVENT
END:VCALENDAR
