BEGIN:VCALENDAR
VERSION:2.0
PRODID:-//Apple Inc.//iCal 5.0.2//EN
CALSCALE:GREGORIAN
BEGIN:VTIMEZONE
TZID:Australia/
BEGIN:STANDARD
TZOFFSETFROM:+1100
RRULE:FREQ=YEARLY;BYMONTH=4;BYDAY=1SU
DTSTART:20080406T030000
TZNAME:
TZOFFSETTO:+
END:STANDARD
BEGIN:DAYLIGHT
TZOFFSETFROM:+
RRULE:FREQ=YEARLY;BYMONTH=10;BYDAY=1SU
DTSTART:20081005T020000
TZNAME:AEDT
TZOFFSETTO:+1100
END:DAYLIGHT
END:VTIMEZONE
BEGIN:VEVENT
CREATED:20260425T024105
UID:Property20248807Inspection52746211
DTEND;TZID=Australia/:20200229T140000
TRANSP:OPAQUE
SUMMARY:Open For Inspection: 1/41 Thomas Street, Emu Park
DESCRIPTION:Looking to Downsize this Home may suit You! - If you are looking for affordable living in Emu Park and want an open plan home in a great location then this Home is a must see!! 
This Duplex Offer's: 
* Two Bedrooms with Built In Robes, Fans and Air Conditioning
* Entertainer's Kitchen in the Open Plan Living Area expanding out onto the Patio
* Two Toilets and a Powder Room
* Two Way Bathroom with a spacious Shower recess and Good Size Bath
* Storage Cupboards
* Single Remote Garage with extra storage and Internal Laundry
* Room for a Garden Shed
* NBN
* Rain Water Tank
* Utilities Enclosure
* Landscaped Gardens with Sprinkler System
* Short Distance to Shops, Transport and Medical Services
If you would like to arrange for an Inspection please call me Tanya on Mobile: 0400 304 240.



LAST-MODIFIED:20260425T024105
DTSTAMP:20260425T024105
DTSTART;TZID=Australia/:20200229T133000
LOCATION:1/41 Thomas Street Emu Park QLD 4710
URL:http://www.emuparkrealestate.com.au/20248807
SEQUENCE:0
END:VEVENT
END:VCALENDAR
