BEGIN:VCALENDAR
VERSION:2.0
PRODID:-//Apple Inc.//iCal 5.0.2//EN
CALSCALE:GREGORIAN
BEGIN:VTIMEZONE
TZID:Australia/
BEGIN:STANDARD
TZOFFSETFROM:+1100
RRULE:FREQ=YEARLY;BYMONTH=4;BYDAY=1SU
DTSTART:20080406T030000
TZNAME:
TZOFFSETTO:+
END:STANDARD
BEGIN:DAYLIGHT
TZOFFSETFROM:+
RRULE:FREQ=YEARLY;BYMONTH=10;BYDAY=1SU
DTSTART:20081005T020000
TZNAME:AEDT
TZOFFSETTO:+1100
END:DAYLIGHT
END:VTIMEZONE
BEGIN:VEVENT
CREATED:20260425T024029
UID:Property20249101Inspection52746215
DTEND;TZID=Australia/:20200229T140000
TRANSP:OPAQUE
SUMMARY:Open For Inspection: 3/43 Thomas Street, Emu Park
DESCRIPTION:Brand New - Spacious - Close to Emu Park!! - Open Plan 2 Bedroom Homes in a great location these home's are a must see. If you are looking for affordable living in Emu Park you need to Inspect these homes?
These Duplex's Offer: 
* Two Bedrooms with Built In Robes, Fans and Air Conditioning
* Entertainer's Kitchen in the Open Plan Living Area expanding out onto the Patio
* Room for Boat, Caravan or Trailer
* Room for a Garden Shed
* Two Toilets
* Two Way Bathroom with a spacious Shower recess and a Bath Tub
* Storage Cupboards
* Single Remote Garage with extra storage and Internal Laundry
* Rain Water Tank
* Utilities Enclosure
* NBN
* Landscaped Gardens with Sprinkler System
* Short Distance to Shops, Transport and Medical Services
If you would like to arrange for an Inspection please call me Tanya on Mobile: 0400 304 240


LAST-MODIFIED:20260425T024029
DTSTAMP:20260425T024029
DTSTART;TZID=Australia/:20200229T133000
LOCATION:3/43 Thomas Street Emu Park QLD 4710
URL:http://www.emuparkrealestate.com.au/20249101
SEQUENCE:0
END:VEVENT
END:VCALENDAR
