BEGIN:VCALENDAR
VERSION:2.0
PRODID:-//Apple Inc.//iCal 5.0.2//EN
CALSCALE:GREGORIAN
BEGIN:VTIMEZONE
TZID:Australia/
BEGIN:STANDARD
TZOFFSETFROM:+1100
RRULE:FREQ=YEARLY;BYMONTH=4;BYDAY=1SU
DTSTART:20080406T030000
TZNAME:
TZOFFSETTO:+
END:STANDARD
BEGIN:DAYLIGHT
TZOFFSETFROM:+
RRULE:FREQ=YEARLY;BYMONTH=10;BYDAY=1SU
DTSTART:20081005T020000
TZNAME:AEDT
TZOFFSETTO:+1100
END:DAYLIGHT
END:VTIMEZONE
BEGIN:VEVENT
CREATED:20260425T021844
UID:Property20398600Inspection52753694
DTEND;TZID=Australia/:20200301T130000
TRANSP:OPAQUE
SUMMARY:Open For Inspection: 6/151 Nayland Road, Stoke
DESCRIPTION:INVEST IN YOUR FUTURE-NEW PRICE - Prepare to be impressed with the award winning, stylish and elegant design of this 'as new', easy care, sunny and secure townhouse. Providing a perfect lifestyle option - a wonderful retreat for you to call home or for those with busy lives, a fantastic lock up and leave. The modern, open plan living/dining/kitchen, with a pleasing neutral colour palette, opens to the North facing patio - a gorgeous place for outdoor dining. The two spacious bedrooms open to the Jack and Jill bathroom plus there is an additional guest toilet, an extra wide entrance/hallway, a dedicated laundry space, an internal access garage plus brilliant storage. Centrally located in increasingly popular Stoke, the Nayland swimming complex is just across the road and the Stoke stores, library etc are an easy stroll along the nearby reserve walkway. If you are wanting to downsize to something special, don't delay in viewing this superb property. To arrange your private inspection of this stunning property, or to obtain  further information, please call Janice 0274 470 805 or Di 0274 306 518.
LAST-MODIFIED:20260425T021844
DTSTAMP:20260425T021844
DTSTART;TZID=Australia/:20200301T123000
LOCATION:6/151 Nayland Road Stoke Nelson & Bays 7011
URL:http://www.remax-elite.co.nz/20398600
SEQUENCE:0
END:VEVENT
END:VCALENDAR
