BEGIN:VCALENDAR
VERSION:2.0
PRODID:-//Apple Inc.//iCal 5.0.2//EN
CALSCALE:GREGORIAN
BEGIN:VTIMEZONE
TZID:Australia/
BEGIN:STANDARD
TZOFFSETFROM:+1100
RRULE:FREQ=YEARLY;BYMONTH=4;BYDAY=1SU
DTSTART:20080406T030000
TZNAME:
TZOFFSETTO:+
END:STANDARD
BEGIN:DAYLIGHT
TZOFFSETFROM:+
RRULE:FREQ=YEARLY;BYMONTH=10;BYDAY=1SU
DTSTART:20081005T020000
TZNAME:AEDT
TZOFFSETTO:+1100
END:DAYLIGHT
END:VTIMEZONE
BEGIN:VEVENT
CREATED:20260424T215415
UID:Property20603493Inspection53603908
DTEND;TZID=Australia/:20210124T150000
TRANSP:OPAQUE
SUMMARY:Open For Inspection: 30 Airlie Street, Atawhai
DESCRIPTION:Life Starts Here - Offers over $1,100,000 

30 Airlie Street. Glenduan. (The Glen) Nelson.

Life Starts Here. 
When you are living at number 30 Airlie St you will soon become part of the Glenduan community. Glenduan (The Glen) is Nelsons only seaside community and the local residents just love living at this location. 

Seldom do opportunities come along to own property at this location, so you will need to act quickly. This large 4-bedroom plus family size home will impress you in many ways. Built over two titles on a 1915m2 fully landscaped section to create private living with beautiful sea views out to Tasman Bay, while offering you a tranquil lifestyle.  

Careful designing and renovations have turned this home into one you will feel so comfortable to live in, with features like the selective timbers used in designing the kitchen and dining areas that creates a natural warm living space. The kitchen has been designed to work, having a huge 7 burner gas hob to cook on plus double electric wall ovens and you will need these to cater for entertaining your family or guests at this home. Large windows have been used to create tons of natural light throughout this home, tiling used in the walk-in shower and bathroom space including one of two separate toilets. The main bedroom has a large sunny window seat creating a great get away place to lay in the sun and read a book. 

There is excellent indoor to outdoor connection for deck space, entertaining that includes a large outdoor fireplace, two artistic fountains, a claw foot bath, all this with Bali lighting will set the scene for a beautiful  evening looking out into the Tasman Bay.  Having an organic heritage orchard as a backdrop with fruit trees like Avocado, Cherry, Citrus, Nut trees and even an asparagus garden all growing in this micro-climate makes this home a place of paradise. 

The lower level is well set up to be use for a home business or turn this space into extra living and there is plenty more space out in the large standalone cottage garage that you can utilize. Call me now.

 

LAST-MODIFIED:20260424T215415
DTSTAMP:20260424T215415
DTSTART;TZID=Australia/:20210124T143000
LOCATION:30 Airlie Street Atawhai Nelson & Bays 7071
URL:http://www.remax-elite.co.nz/20603493
SEQUENCE:0
END:VEVENT
END:VCALENDAR
