BEGIN:VCALENDAR
VERSION:2.0
PRODID:-//Apple Inc.//iCal 5.0.2//EN
CALSCALE:GREGORIAN
BEGIN:VTIMEZONE
TZID:Australia/
BEGIN:STANDARD
TZOFFSETFROM:+1100
RRULE:FREQ=YEARLY;BYMONTH=4;BYDAY=1SU
DTSTART:20080406T030000
TZNAME:
TZOFFSETTO:+
END:STANDARD
BEGIN:DAYLIGHT
TZOFFSETFROM:+
RRULE:FREQ=YEARLY;BYMONTH=10;BYDAY=1SU
DTSTART:20081005T020000
TZNAME:AEDT
TZOFFSETTO:+1100
END:DAYLIGHT
END:VTIMEZONE
BEGIN:VEVENT
CREATED:20260424T215632
UID:Property20630013Inspection53623752
DTEND;TZID=Australia/:20210121T130000
TRANSP:OPAQUE
SUMMARY:Open For Inspection: 2/27 Exeter Street, Stoke
DESCRIPTION:SOLD BY JANICE EMERY & DI CONNOLLY - Set back from the road this beautifully presented townhouse has been modernised throughout with double glazing, a fabulous kitchen with stainless steel appliances, two large double bedrooms with built in wardrobes, plus a light and bright bathroom with separate toilet. Entertaining is a delight from the spacious living & dining room with French doors opening to the covered deck which in turn leads to the gorgeous, fully fenced, courtyard style garden - a wonderfully private space to enjoy with your friends and family.  A convenient location, just around the corner from the Nayland swimming complex with nearby access to the railway reserve providing a safe and easy walkway to the Stoke shopping centre.  Make it easy for yourself and call Janice 0274470805 or Di 0274306518 to find out how to make this fantastic home your own.
LAST-MODIFIED:20260424T215632
DTSTAMP:20260424T215632
DTSTART;TZID=Australia/:20210121T123000
LOCATION:2/27 Exeter Street Stoke Nelson & Bays 7011
URL:http://www.remax-elite.co.nz/20630013
SEQUENCE:0
END:VEVENT
END:VCALENDAR
