BEGIN:VCALENDAR
VERSION:2.0
PRODID:-//Apple Inc.//iCal 5.0.2//EN
CALSCALE:GREGORIAN
BEGIN:VTIMEZONE
TZID:Australia/
BEGIN:STANDARD
TZOFFSETFROM:+1100
RRULE:FREQ=YEARLY;BYMONTH=4;BYDAY=1SU
DTSTART:20080406T030000
TZNAME:
TZOFFSETTO:+
END:STANDARD
BEGIN:DAYLIGHT
TZOFFSETFROM:+
RRULE:FREQ=YEARLY;BYMONTH=10;BYDAY=1SU
DTSTART:20081005T020000
TZNAME:AEDT
TZOFFSETTO:+1100
END:DAYLIGHT
END:VTIMEZONE
BEGIN:VEVENT
CREATED:20260424T220008
UID:Property20632866Inspection53634339
DTEND;TZID=Australia/:20210124T133000
TRANSP:OPAQUE
SUMMARY:Open For Inspection: 1/22 Ledbury Road, Atawhai
DESCRIPTION:VIEWS, SUN, PRIVACY & SECURITY - New to the market - this 2 bedroom townhouse with lovely views over the Haven deserves your attention. Situated to town in the popular "early" Atawhai area - this home offers all the heading suggests.

Elevated from the road - the area behind the home is flat with plenty of parking and turn around area. The garage has internal access with extra storage room. No lawns to mow. 

The property has been well maintained. There is a large conservatory area off the living room which extends out to a private decking area which can accommodate several guests. The two bedrooms are a generous size and are serviced by an appealing bathroom with bath and seperate shower. The house has been designed and structured to suit an ease of living with comfort and security. 

This property offers an expansive vista over the Boulder Bank to the port from the kitchen, conservatory and deck and sits nicely to the sun providing warmth, views and privacy. 


LAST-MODIFIED:20260424T220008
DTSTAMP:20260424T220008
DTSTART;TZID=Australia/:20210124T130000
LOCATION:1/22 Ledbury Road Atawhai Nelson & Bays 7010
URL:http://www.remax-elite.co.nz/20632866
SEQUENCE:0
END:VEVENT
END:VCALENDAR
