BEGIN:VCALENDAR
VERSION:2.0
PRODID:-//Apple Inc.//iCal 5.0.2//EN
CALSCALE:GREGORIAN
BEGIN:VTIMEZONE
TZID:Australia/
BEGIN:STANDARD
TZOFFSETFROM:+1100
RRULE:FREQ=YEARLY;BYMONTH=4;BYDAY=1SU
DTSTART:20080406T030000
TZNAME:
TZOFFSETTO:+
END:STANDARD
BEGIN:DAYLIGHT
TZOFFSETFROM:+
RRULE:FREQ=YEARLY;BYMONTH=10;BYDAY=1SU
DTSTART:20081005T020000
TZNAME:AEDT
TZOFFSETTO:+1100
END:DAYLIGHT
END:VTIMEZONE
BEGIN:VEVENT
CREATED:20260425T022133
UID:Property20428921Inspection52755836
DTEND;TZID=Australia/:20200227T181500
TRANSP:OPAQUE
SUMMARY:Open For Inspection: 20 Buick Crescent, Awapuni
DESCRIPTION:ROMANTIC STROLLS BY THE RIVER? - I think you’ve met your match, welcome to number 20 Buick Crescent. Situated in a very sought after location, close to all that Riverdale has to offer - river walks, the dog park, schooling and an easy commute to Massey and the CBD. This solid 1960’s home has been modernised in the past, providing a move in and live appeal, but with room to add your own splash of paint later if you wish. Enjoy a spacious and established, 674m2 (more or less section), with a single garage and a large deck that even catches a glimpse of the Ranges. Inside has open plan living, a modernised kitchen, a separate laundry and is warmed by the choice of two heat pumps. Complete the package with three double bedrooms all with wardrobes, and a modernised main bathroom with a separate toilet. Seldom do properties come up in this street, especially at this value - if a solid rental, family home or perfect starter is on your list, then I suggest you view this winner. 
Viewing will be strictly open homes only, so I’ll see you there. 
Rental Appraisal - $460 per week.
LAST-MODIFIED:20260425T022133
DTSTAMP:20260425T022133
DTSTART;TZID=Australia/:20200227T173000
LOCATION:20 Buick Crescent Awapuni MNWTU 4412
URL:http://www.remax.nz/20428921
SEQUENCE:0
END:VEVENT
END:VCALENDAR
