BEGIN:VCALENDAR
VERSION:2.0
PRODID:-//Apple Inc.//iCal 5.0.2//EN
CALSCALE:GREGORIAN
BEGIN:VTIMEZONE
TZID:Australia/
BEGIN:STANDARD
TZOFFSETFROM:+1100
RRULE:FREQ=YEARLY;BYMONTH=4;BYDAY=1SU
DTSTART:20080406T030000
TZNAME:
TZOFFSETTO:+
END:STANDARD
BEGIN:DAYLIGHT
TZOFFSETFROM:+
RRULE:FREQ=YEARLY;BYMONTH=10;BYDAY=1SU
DTSTART:20081005T020000
TZNAME:AEDT
TZOFFSETTO:+1100
END:DAYLIGHT
END:VTIMEZONE
BEGIN:VEVENT
CREATED:20260425T022137
UID:Property20428922Inspection52755838
DTEND;TZID=Australia/:20200227T191500
TRANSP:OPAQUE
SUMMARY:Open For Inspection: 649 Featherston Street, Roslyn
DESCRIPTION:DOUBLE GLAZED AND READY TO ROLL - Under contract pending Purchaser conditions and with a back up contract in place.
Savvy investors, families and first home buyers, I’m glad I’ve got your attention. Here we have a solid weatherboard and double glazed home, sitting nicely at the front of the 749m2 (more or less) site, you do the math and talk to the council. Situated in a growing area of the city with healthcare facilities and other amenities near-by, this really strikes as positive buying. The home has been completely renovated, fitted with a new modern kitchen and bathroom, hearty polished floors and a fresh paint job inside. With the availability to rent right away, love and enjoy or do your due-diligence to possibly make some changes in the back yard, this makes 649 Featherston Street rather savvy buying. The roof has been rescrewed and painted to give it extra life and a gas infinity system added to really ensure future proofing. I’m excited for you to see and hopefully unlock the possibilities that this superb property has to offer, contact Jeremy for more information. 
Rental Appraisal - $450 per week.
LAST-MODIFIED:20260425T022137
DTSTAMP:20260425T022137
DTSTART;TZID=Australia/:20200227T184500
LOCATION:649 Featherston Street Roslyn MNWTU 4414
URL:http://www.remax.nz/20428922
SEQUENCE:0
END:VEVENT
END:VCALENDAR
