BEGIN:VCALENDAR
VERSION:2.0
PRODID:-//Apple Inc.//iCal 5.0.2//EN
CALSCALE:GREGORIAN
BEGIN:VTIMEZONE
TZID:Australia/
BEGIN:STANDARD
TZOFFSETFROM:+1100
RRULE:FREQ=YEARLY;BYMONTH=4;BYDAY=1SU
DTSTART:20080406T030000
TZNAME:
TZOFFSETTO:+
END:STANDARD
BEGIN:DAYLIGHT
TZOFFSETFROM:+
RRULE:FREQ=YEARLY;BYMONTH=10;BYDAY=1SU
DTSTART:20081005T020000
TZNAME:AEDT
TZOFFSETTO:+1100
END:DAYLIGHT
END:VTIMEZONE
BEGIN:VEVENT
CREATED:20260425T031449
UID:Property20125794Inspection51618021
DTEND;TZID=Australia/:20190227T134500
TRANSP:OPAQUE
SUMMARY:Open For Inspection: 8 Long St West, Graceville
DESCRIPTION:PRIVATE RIVERFRONT OASIS 1341M2 - Located on a quiet cul-de-sac on a huge and superbly private 1341m2 absolute riverfront block with some of the best river views you'll find in Brisbane, this recently renovated mid-century modern home with 28m of river frontage features the architectural hallmarks of a home to love forever.The owners have lovingly maintained the home for the past 13 years and just completed renovations including a brand new kitchen, new carpets, fresh paint, decking and landscaping.

Arrive at the private front entrance and make your way along the footpath past the green lawns, lush hedges and tall bamboo to the welcoming front porch of this charming weatherboard residence. Step inside the bright interiors flooded with natural light and take in the sensational river views on offer through the elegant timber-framed glass doors and windows. High ceilings create a wonderful sense of space throughout the multi-level home with various living rooms and outdoor areas to relax and entertain.

Timber floorboards add warmth to the main living level which connects the lounge, dining and kitchen to the large outdoor decks capturing cooling breezes and glorious river views. Enjoy all the luxuries of the beautiful brand new kitchen with 30mm Carrara marble benches, ILVE 900mm freestanding oven and gas stove with teppanyaki hot plate, Fisher and Paykel two drawer dishwasher and a spacious butler's pantry with fridge.

Two additional living rooms offer plenty of space for the whole family to spread out and find separation when needed. There is also a home office wired for cable overlooking the garden. With three fireplaces to gather around in the cooler months and a spectacular solar heated swimming pool, this wonderful family home offers maximum enjoyment all year round.

The tranquil master bedroom was completed recently is privately located on the lower level. It features a roomy walk-in dressing room with under cabinet lighting and a stylish modern ensuite with designer twin vanity and double shower.

Enjoy the beautiful established gardens in the backyard of this terraced block leading down to the river's edge where a magnificent large timber deck offers a truly special and unique entertaining area in an incredible natural setting. There is also a full size 10m pontoon ready for your boat or jet-skis.

Additional features of this marvellous mid-century modern home include Bosch security system, air-conditioning, 20,000 litre water tanks, large double garage, workshop and storage.This stunning home is just 7km from the Brisbane CBD, close to great public and private schools, including St Aidan's, St Peters, Brisbane Boys' College and Graceville State School. Indooroopilly Shopping Centre and top-class restaurants are within a 5 minute drive, as is the city train, or you can wander through leafy Graceville to a gorgeous selection of cafes and gourmet grocers. Don't miss your chance to make this dream home in an exclusive riverfront location your very own.
LAST-MODIFIED:20260425T031449
DTSTAMP:20260425T031449
DTSTART;TZID=Australia/:20190227T131500
LOCATION:8 Long St West Graceville QLD 4075
URL:http://www.adcockprestige.com/20125794
SEQUENCE:0
END:VEVENT
END:VCALENDAR
