BEGIN:VCALENDAR
VERSION:2.0
PRODID:-//Apple Inc.//iCal 5.0.2//EN
CALSCALE:GREGORIAN
BEGIN:VTIMEZONE
TZID:Australia/
BEGIN:STANDARD
TZOFFSETFROM:+1100
RRULE:FREQ=YEARLY;BYMONTH=4;BYDAY=1SU
DTSTART:20080406T030000
TZNAME:
TZOFFSETTO:+
END:STANDARD
BEGIN:DAYLIGHT
TZOFFSETFROM:+
RRULE:FREQ=YEARLY;BYMONTH=10;BYDAY=1SU
DTSTART:20081005T020000
TZNAME:AEDT
TZOFFSETTO:+1100
END:DAYLIGHT
END:VTIMEZONE
BEGIN:VEVENT
CREATED:20260425T031512
UID:Property20110692Inspection51672033
DTEND;TZID=Australia/:20190309T103000
TRANSP:OPAQUE
SUMMARY:Open For Inspection: 62 Consort Street, CORINDA
DESCRIPTION:NEAR NEW LUXURY RIVERFRONT HOME - WATCH THE VIDEO FOR A FURTHER INSIGHT TO THE PROPERTY

Occupying a commanding position high on the Corinda river escarpment overlooking the river, mountains and Fig Tree Pocket some 40 meters below, this magnificent residence offers a private sanctuary in the heart of one of Australia's voted top 10 liveable suburbs. Built with the utmost attention to detail by 2016 HIA Housing Award Winner, Lindon Homes, this contemporary yet elegant residence has been custom designed to take full advantage of riverfront living. 
 
A gated tree lined driveway unveils a classical façade boasting bricks from a previous era juxtaposed against highly durable Linea™ weatherboard and render blending synonymously with the character of its charming surrounds. Beyond the formal landscaped entry, the residence is welcoming with natural blackbutt timber floors, high square set ceilings and crisp white walls observing an ongoing theme of light and spaciousness. Banks of floor to ceiling glass frame the lower level showcasing the panoramic river views and native parkland.

Two expansive levels offer designated living and entertaining areas with the lower level offering a central gourmet kitchen. Designed for the culinary artist in the family, this space is inclusive of premium appointments including marbled Smartstone® bench tops, custom built cabinetry with soft close drawers, premium appliances, an expansive butler's pantry with ample storage and feature pendant lighting. Finished to perfection the internal living and dining area on the lower level is complete with built-in gas fireplace offering year around enjoyment. This intuitive design unifies the well-appointed interiors with an expansive travertine terrace integrating both the central living areas and the riverfront garden, providing a space for intimate soirees or larger affairs.
  
Discretely positioned on the southern side of the lower level the theatre room can be closed off for relaxing in low light with a favourite movie whilst the open sunlit office directly opposite on the northern side overlooks the sparkling swimming pool and river providing the ultimate setting for a home business or library. Ascend the stairs to the upper level and be greeted by four generously sized bedrooms and a third living area perfectly positioned for further enjoyment of the river and mountain views.  Also opening onto the upstairs balcony is the large master bedroom and ensuite with double vanity, shower and a bath for peaceful relaxation while soaking up the amazing outlook.
 
Additional features of this quality riverfront home include ducted air conditioning, R2.5 insulated Colorbond® roofing, intercom, security, a gas fire-place, SMEG appliances, solid blackbutt timber floors, natural wool carpets, linen look blinds, high ceilings, windows and doors, custom built office cabinetry, 10-meter Aristone and glass tiled swimming pool, a large lush lawn and established landscaped gardens.

Located within walking distance to St Aidan's School and the railway and a 20 minute commute to the Brisbane CBD, this unique riverfront holding in the quiet, leafy, family friendly neighbourhood of Corinda offers a lifestyle only available to a lucky few.

LAST-MODIFIED:20260425T031512
DTSTAMP:20260425T031512
DTSTART;TZID=Australia/:20190309T100000
LOCATION:62 Consort Street CORINDA QLD 4075
URL:http://www.adcockprestige.com/20110692
SEQUENCE:0
END:VEVENT
END:VCALENDAR
