BEGIN:VCALENDAR
VERSION:2.0
PRODID:-//Apple Inc.//iCal 5.0.2//EN
CALSCALE:GREGORIAN
BEGIN:VTIMEZONE
TZID:Australia/
BEGIN:STANDARD
TZOFFSETFROM:+1100
RRULE:FREQ=YEARLY;BYMONTH=4;BYDAY=1SU
DTSTART:20080406T030000
TZNAME:
TZOFFSETTO:+
END:STANDARD
BEGIN:DAYLIGHT
TZOFFSETFROM:+
RRULE:FREQ=YEARLY;BYMONTH=10;BYDAY=1SU
DTSTART:20081005T020000
TZNAME:AEDT
TZOFFSETTO:+1100
END:DAYLIGHT
END:VTIMEZONE
BEGIN:VEVENT
CREATED:20260425T031453
UID:Property20088631Inspection51686226
DTEND;TZID=Australia/:20190302T134500
TRANSP:OPAQUE
SUMMARY:Open For Inspection: 31 Ivy Street, INDOOROOPILLY
DESCRIPTION:SANTA FE INSPIRED RIVERFRONT HOME - 1091M2 - WATCH THE VIDEO FOR A FURTHER INSIGHT TO THE PROPERTY

With its absolute riverfront position on a quiet street, this impressive Santa Fe inspired residence is located on an extra large allotment measuring 1091m2 on one of the best streets in Indooroopilly just 6km from all the action of the Brisbane CBD and a short walk from St Peters Lutheran College.

Spread over three levels, this exclusive property makes a grand impression from the moment you arrive. Enter the home through large double timber doors into the wide hallway and be welcomed by the spectacular river views. The main living level offers a large open plan kitchen, dining and living area complete with a double-sided gas fireplace and large sliding doors that open onto the spacious entertainer's balcony capturing those incredible river views and cooling breezes. The smart and extra large kitchen features an island bench, granite benchtops, quality stainless steel appliances, gas cooktop and stainless steel splashback. Climb the timber and wrought iron staircase to the spacious master retreat located on its own private level on the upper floor complete with wide timber floorboards, plantation shutters, study areas and a long wall of built-in wardrobes. Throw open the double doors to your own private balcony overlooking the river and gardens and relax in the massive ensuite with island spa, luxurious marble tiles, double stone vanity, temperature control, mirrored cabinets and ample storage space.

On the lower level, a second family room provides extra space to spread out and relax. This is also where the remaining bedrooms, all with river views and their own built-in wardrobes, are located along with a separate bathroom, powder room, large wine cellar and laundry. Enjoy the magnificent natural setting of this wonderful home from a choice of two outdoor undercover living options. These are located in the front yard overlooking the stunning solar heated swimming pool with water feature and in the backyard overlooking the river. From here, make your way through the landscaped gardens down the staircase towards the river's edge to the serene natural setting beneath the shade of the eucalyptus tree and to your own private jetty. Other features of this immaculate property include charming Santa Fe feature tiles, ducted and split-system air-conditioning, bespoke iron work, double remote lock-up garage, street entry through security gate, security system, large safe, lockable garden storage and full intercom system awaiting connection. 

Surrounded by prestige riverfront homes, Ivy St Indooroopilly offers residents an enviable lifestyle just moments from St Peters Lutheran College, Brisbane Boys College, University of Queensland, Indooroopilly Shopping Centre, restaurants, cinemas, public transport and parklands.
LAST-MODIFIED:20260425T031453
DTSTAMP:20260425T031453
DTSTART;TZID=Australia/:20190302T131500
LOCATION:31 Ivy Street INDOOROOPILLY QLD 4068
URL:http://www.adcockprestige.com/20088631
SEQUENCE:0
END:VEVENT
END:VCALENDAR
