BEGIN:VCALENDAR
VERSION:2.0
PRODID:-//Apple Inc.//iCal 5.0.2//EN
CALSCALE:GREGORIAN
BEGIN:VTIMEZONE
TZID:Australia/
BEGIN:STANDARD
TZOFFSETFROM:+1100
RRULE:FREQ=YEARLY;BYMONTH=4;BYDAY=1SU
DTSTART:20080406T030000
TZNAME:
TZOFFSETTO:+
END:STANDARD
BEGIN:DAYLIGHT
TZOFFSETFROM:+
RRULE:FREQ=YEARLY;BYMONTH=10;BYDAY=1SU
DTSTART:20081005T020000
TZNAME:AEDT
TZOFFSETTO:+1100
END:DAYLIGHT
END:VTIMEZONE
BEGIN:VEVENT
CREATED:20260425T031450
UID:Property20125764Inspection51686276
DTEND;TZID=Australia/:20190302T143000
TRANSP:OPAQUE
SUMMARY:Open For Inspection: 32 King Arthur Terrace, TENNYSON
DESCRIPTION:BRAND NEW LUXURY HOME - WATCH THE VIDEO FOR A FURTHER INSIGHT TO THE PROPERTY

This contemporary Tennyson home emulates a desire for perfection, from the quality build to the comfort and luxury of all the internal finishes. This home truly is the pinnacle of luxury family living, an icon of high-end, functional design. Located within walking distance from the Queensland Tennis Centre, parks and cafe's, not only is this a first class build, it's a first class location.

Behind a private forecourt, an impressive door reveals high ceilings and wide southern beech floors, glass louvers add a touch of beach house feel, while the pool forms a pleasant backdrop. Expansive in scale, the sensational living and dining room showcase premium finishes, innovative designer style and impressive proportions, this architecturally designed residence sets a new benchmark in low maintenance luxury just moments from Brisbane International Tennis Centre, Yeerongpilly Green Development and a selection of public transport.

Framed by greenery and with a modest frontage there is so much more to this property than initially meets the eye. This quiet abode has been meticulously engineered and hand built to perfection with use of the world's finest and rarest materials to stand the test of time. Stylishly presented, invitingly spacious, and exceedingly private, this incredible home is perfect to service your needs now and well into the future.

The ground floor seamlessly transitions from a state-of-the-art gourmet kitchen, with an amazing butler's pantry providing a fabulous preparation area for entertaining and hosts a faultless fit out and comprehensive storage, taking you out to the living and dining room onto a private under cover patio overlooking the fully fenced back yard.

Light-filled accommodation upstairs comprises a beautiful main bedroom with lavish walk in robe and designer ensuite, additional double bedrooms with built in robes and an ultra-stylish bathroom.

Impeccably presented and finished to the highest standards, it also includes an alarm, video intercom, study, hidden mirrored mini-wardrobe downstairs with shoe storage, Solar panels, LG battery installed internally so the house can run with out power for up to five to seven hours, zoned heating and cooling, powder-room, laundry and internally accessed double garage, glow in the dark specs strategically placed over the garage floor allows for easy night vision.
LAST-MODIFIED:20260425T031450
DTSTAMP:20260425T031450
DTSTART;TZID=Australia/:20190302T140000
LOCATION:32 King Arthur Terrace TENNYSON QLD 4105
URL:http://www.adcockprestige.com/20125764
SEQUENCE:0
END:VEVENT
END:VCALENDAR
