BEGIN:VCALENDAR
VERSION:2.0
PRODID:-//Apple Inc.//iCal 5.0.2//EN
CALSCALE:GREGORIAN
BEGIN:VTIMEZONE
TZID:Australia/
BEGIN:STANDARD
TZOFFSETFROM:+1100
RRULE:FREQ=YEARLY;BYMONTH=4;BYDAY=1SU
DTSTART:20080406T030000
TZNAME:
TZOFFSETTO:+
END:STANDARD
BEGIN:DAYLIGHT
TZOFFSETFROM:+
RRULE:FREQ=YEARLY;BYMONTH=10;BYDAY=1SU
DTSTART:20081005T020000
TZNAME:AEDT
TZOFFSETTO:+1100
END:DAYLIGHT
END:VTIMEZONE
BEGIN:VEVENT
CREATED:20260425T024327
UID:Property20154023Inspection51684199
DTEND;TZID=Australia/:20190302T100000
TRANSP:OPAQUE
SUMMARY:Open For Inspection: 55 Spowers Street, BONGAREE
DESCRIPTION:Renovated home in the heart of Bongaree. Vendors ready to negotiate - Remax Advanced presents this tastefully renovated home in the heart of Bongaree. RSL and Red Beach are within walking distance. The home offers 3 bedrooms all with built in robes. 2 large living areas downstairs with a fully renovated kitchen offer plenty of room for friends and family to gather. A covered outdoor area flows off the main living area, further enhancing the appeal of the home.
The extra large double garage, potential side access and beautiful landscaping complete this beautiful Bribie Island home.

Notable features:

3 bedrooms with BIR
2 bathrooms
Airconditioned living area
New kitchen with Dishwasher
New flooring
Freshly painted
Fully fenced
Spear pump
6kW Solar system
DLUG with extra space for workshop
Garden shed

For a private inspection call Karl on 0407 836 508

LAST-MODIFIED:20260425T024327
DTSTAMP:20260425T024327
DTSTART;TZID=Australia/:20190302T093000
LOCATION:55 Spowers Street BONGAREE QLD 4507
URL:http://www.bribieproperty.com.au/20154023
SEQUENCE:0
END:VEVENT
END:VCALENDAR
