BEGIN:VCALENDAR
VERSION:2.0
PRODID:-//Apple Inc.//iCal 5.0.2//EN
CALSCALE:GREGORIAN
BEGIN:VTIMEZONE
TZID:Australia/
BEGIN:STANDARD
TZOFFSETFROM:+1100
RRULE:FREQ=YEARLY;BYMONTH=4;BYDAY=1SU
DTSTART:20080406T030000
TZNAME:
TZOFFSETTO:+
END:STANDARD
BEGIN:DAYLIGHT
TZOFFSETFROM:+
RRULE:FREQ=YEARLY;BYMONTH=10;BYDAY=1SU
DTSTART:20081005T020000
TZNAME:AEDT
TZOFFSETTO:+1100
END:DAYLIGHT
END:VTIMEZONE
BEGIN:VEVENT
CREATED:20260425T024413
UID:Property19839905Inspection51684223
DTEND;TZID=Australia/:20190302T101500
TRANSP:OPAQUE
SUMMARY:Open For Inspection: 117 Endeavour Drive, BANKSIA BEACH
DESCRIPTION:BEAUTIFUL LIFESTYLE LIVING - Situated in one of the most beautiful and sought after locations on Bribie Island, you'll find each space flows into the next effortlessly, creating a home full of style and spacious living. The outdoor living space that overlooks the in-ground pool with lush gardens and yard space offers a place to relax and entertain for any occasion. Located only minutes to the waterfront, shops and public transport be quick to secure your dream home on Bribie Island today!

Notable Features 
- 4 bedrooms, 3 builtins and a master with ensuite and walk through robe 
- 2 separate Living Spaces 
- Spacious Open Plan Kitchen Dining and Living with A/C
- 2 Bathrooms
- Separate laundry room
- Outdoor alfresco area
- Inground Pool 
- Garden Shed 
- Solar Panels 
- DLUG
- Separate undercover carport 
- Bore 
- 5000L water tank

Call Mitchell Day on 0490 790 432 to book your inspection today!

LAST-MODIFIED:20260425T024413
DTSTAMP:20260425T024413
DTSTART;TZID=Australia/:20190302T094500
LOCATION:117 Endeavour Drive BANKSIA BEACH QLD 4507
URL:http://www.bribieproperty.com.au/19839905
SEQUENCE:0
END:VEVENT
END:VCALENDAR
