BEGIN:VCALENDAR
VERSION:2.0
PRODID:-//Apple Inc.//iCal 5.0.2//EN
CALSCALE:GREGORIAN
BEGIN:VTIMEZONE
TZID:Australia/
BEGIN:STANDARD
TZOFFSETFROM:+1100
RRULE:FREQ=YEARLY;BYMONTH=4;BYDAY=1SU
DTSTART:20080406T030000
TZNAME:
TZOFFSETTO:+
END:STANDARD
BEGIN:DAYLIGHT
TZOFFSETFROM:+
RRULE:FREQ=YEARLY;BYMONTH=10;BYDAY=1SU
DTSTART:20081005T020000
TZNAME:AEDT
TZOFFSETTO:+1100
END:DAYLIGHT
END:VTIMEZONE
BEGIN:VEVENT
CREATED:20260425T024413
UID:Property19260495Inspection51684228
DTEND;TZID=Australia/:20190302T101500
TRANSP:OPAQUE
SUMMARY:Open For Inspection: 12 Bracken St, WOORIM
DESCRIPTION:Sun, Surf and Sand!! - Enjoy living by the beach in this classic Woorim home. Catering for extended families or for those who like a bit of space. This home is a sanctuary, pushed back from the road you are surrounded by lush gardens and bushland. Enjoy nature in the large outdoor saltwater pool for those summer days or relax by the fireplace inside for the cooler mornings. 
,
Also Featuring 
- 4 Large bedrooms including the Master Suite 
- Ceiling fans and built in robes in all bedrooms and in the Master a large walk in robe. 
- 2 Large bathrooms
- Large family kitchen and dining 
- 2 Seperate Living areas 
- Built in bar 
- Fire place 
- Inground Salt water pool 
- Outdoor entertainment area
- Fully fenced 
- Backyard backs onto bushland 
- Pool shed and large garden shed

This home would also be perfect for a weekender for yourself or holiday let!

The potential is endless, so be quick to call Mitchell Day on 0467 220 351 today to book in your inspection. 

LAST-MODIFIED:20260425T024413
DTSTAMP:20260425T024413
DTSTART;TZID=Australia/:20190302T094500
LOCATION:12 Bracken St WOORIM QLD 4507
URL:http://www.bribieproperty.com.au/19260495
SEQUENCE:0
END:VEVENT
END:VCALENDAR
