BEGIN:VCALENDAR
VERSION:2.0
PRODID:-//Apple Inc.//iCal 5.0.2//EN
CALSCALE:GREGORIAN
BEGIN:VTIMEZONE
TZID:Australia/
BEGIN:STANDARD
TZOFFSETFROM:+1100
RRULE:FREQ=YEARLY;BYMONTH=4;BYDAY=1SU
DTSTART:20080406T030000
TZNAME:
TZOFFSETTO:+
END:STANDARD
BEGIN:DAYLIGHT
TZOFFSETFROM:+
RRULE:FREQ=YEARLY;BYMONTH=10;BYDAY=1SU
DTSTART:20081005T020000
TZNAME:AEDT
TZOFFSETTO:+1100
END:DAYLIGHT
END:VTIMEZONE
BEGIN:VEVENT
CREATED:20260425T024308
UID:Property20066820Inspection51684231
DTEND;TZID=Australia/:20190302T110000
TRANSP:OPAQUE
SUMMARY:Open For Inspection: 9 Koopa Street, Bongaree
DESCRIPTION:Classic Bongaree home with heaps of potential - On offer is this classic 2 bedroom Bongaree home. It is in great condition and located within an easy stroll to the waterfront and the shops. You can choose to move in as is and enjoy the retro lifestyle, you can renovate or detonate or simply rent it out.
The 2 bedrooms are large and have built in wardrobes. The living area and dining area are very generous and offer plenty of room. The kitchen is functional and offers a sit down breakfast bar. The bathroom and laundry are also quite large and offer plenty of re-modelling options.
A separate laundry, a double garage size shed at the back, side access, fully fenced and plenty of yard space for an extension or a pool complete this great home.

Notable features:

2 bedrooms
1 bathroom
Kitchen with breakfast bar
Pantry
Separate toilet
Laundry
DLUG (Shed at the back)
Fully fenced
Bore
Ceiling Fans
Front verandah

Please call Karl on 0407 836 508 for more information or to book an inspection.



LAST-MODIFIED:20260425T024308
DTSTAMP:20260425T024308
DTSTART;TZID=Australia/:20190302T103000
LOCATION:9 Koopa Street Bongaree QLD 4507
URL:http://www.bribieproperty.com.au/20066820
SEQUENCE:0
END:VEVENT
END:VCALENDAR
