BEGIN:VCALENDAR
VERSION:2.0
PRODID:-//Apple Inc.//iCal 5.0.2//EN
CALSCALE:GREGORIAN
BEGIN:VTIMEZONE
TZID:Australia/
BEGIN:STANDARD
TZOFFSETFROM:+1100
RRULE:FREQ=YEARLY;BYMONTH=4;BYDAY=1SU
DTSTART:20080406T030000
TZNAME:
TZOFFSETTO:+
END:STANDARD
BEGIN:DAYLIGHT
TZOFFSETFROM:+
RRULE:FREQ=YEARLY;BYMONTH=10;BYDAY=1SU
DTSTART:20081005T020000
TZNAME:AEDT
TZOFFSETTO:+1100
END:DAYLIGHT
END:VTIMEZONE
BEGIN:VEVENT
CREATED:20260425T024435
UID:Property18584075Inspection51684239
DTEND;TZID=Australia/:20190302T111500
TRANSP:OPAQUE
SUMMARY:Open For Inspection: 18 Bilinga Court, SANDSTONE POINT
DESCRIPTION:All there's left to do is.... Move in! - Whether you're an investor or looking for a quiet place to settle down, this might be just what you're looking for... Having just been repainted throughout, new carpets throughout all new blinds installed, brand new oven, dishwasher and rangehood this home is move-in ready. The home also offers a great sized backyard with garden shed and side access for Boats, Caravans or trailers. 

Featuring:
-	3 bedrooms with ceiling fans and built-in robes 
-	Master suite with A/C and walk-in robe 
-	Family sized bathroom 
-	Open plan kitchen and dining 
-	Great sized living area with A/C 
-	Massive 740m2 block, fully fenced 
-	Stylish home tucked away in a quiet location 


Located right across from a quiet park and only minutes' walk to the shopping centre, public transport and a short drive from the popular Sandstone Point Hotel and of Course the beautiful beaches of Bribie Island there isn't much this home doesn't offer. Be quick, this will sell!

Call Mitchell Day to book your inspection today on 0467 220 351 

LAST-MODIFIED:20260425T024435
DTSTAMP:20260425T024435
DTSTART;TZID=Australia/:20190302T104500
LOCATION:18 Bilinga Court SANDSTONE POINT QLD 4511
URL:http://www.bribieproperty.com.au/18584075
SEQUENCE:0
END:VEVENT
END:VCALENDAR
