BEGIN:VCALENDAR
VERSION:2.0
PRODID:-//Apple Inc.//iCal 5.0.2//EN
CALSCALE:GREGORIAN
BEGIN:VTIMEZONE
TZID:Australia/
BEGIN:STANDARD
TZOFFSETFROM:+1100
RRULE:FREQ=YEARLY;BYMONTH=4;BYDAY=1SU
DTSTART:20080406T030000
TZNAME:
TZOFFSETTO:+
END:STANDARD
BEGIN:DAYLIGHT
TZOFFSETFROM:+
RRULE:FREQ=YEARLY;BYMONTH=10;BYDAY=1SU
DTSTART:20081005T020000
TZNAME:AEDT
TZOFFSETTO:+1100
END:DAYLIGHT
END:VTIMEZONE
BEGIN:VEVENT
CREATED:20260425T024413
UID:Property20175747Inspection51684241
DTEND;TZID=Australia/:20190302T113000
TRANSP:OPAQUE
SUMMARY:Open For Inspection: 98 Foxtail Crescent, BANKSIA BEACH
DESCRIPTION:A Superb Plantation Home - If your looking for a home that oozes style, class and has one of the best family-friendly layouts around, then 98 Foxtail is for you. Built by the award-winning Plantation Homes, this home is the perfect combination of practicality and quality for modern living. Featuring a centrally located kitchen that any master chef would be inspired to cook in, with substantial stone bench tops, stainless steel appliances, a walk-in pantry and ample cupboard space. Combined with the stylish timber bi-fold doors, this makes both indoor and outdoor dining seamless. The home features multiple living zones, which include formal and casual lounge areas, a teenage/children's lounge as well as a separate study. The master suite is located separate at the rear of the home and is complemented by a substantial walk in robe and full ensuite. The remaining three bedrooms are located at the front of the home and are generously sized, all have built in robes and connect to the Teenage/Children's retreat.  This is all complimented by a neutral colour pallet and loads of little extras that make a house a home. Located in the popular Pacific Harbour Golf Estate which gives you access to the country club (use of the pool, gym, café/restaurant and tennis courts), extensive parks, walking paths and fibre optic NBN, makes it the perfect lifestyle.  Call David on 0407657455 to arrange an appointment today.
LAST-MODIFIED:20260425T024413
DTSTAMP:20260425T024413
DTSTART;TZID=Australia/:20190302T110000
LOCATION:98 Foxtail Crescent BANKSIA BEACH QLD 4507
URL:http://www.bribieproperty.com.au/20175747
SEQUENCE:0
END:VEVENT
END:VCALENDAR
