BEGIN:VCALENDAR
VERSION:2.0
PRODID:-//Apple Inc.//iCal 5.0.2//EN
CALSCALE:GREGORIAN
BEGIN:VTIMEZONE
TZID:Australia/
BEGIN:STANDARD
TZOFFSETFROM:+1100
RRULE:FREQ=YEARLY;BYMONTH=4;BYDAY=1SU
DTSTART:20080406T030000
TZNAME:
TZOFFSETTO:+
END:STANDARD
BEGIN:DAYLIGHT
TZOFFSETFROM:+
RRULE:FREQ=YEARLY;BYMONTH=10;BYDAY=1SU
DTSTART:20081005T020000
TZNAME:AEDT
TZOFFSETTO:+1100
END:DAYLIGHT
END:VTIMEZONE
BEGIN:VEVENT
CREATED:20260425T024307
UID:Property20090710Inspection51684322
DTEND;TZID=Australia/:20190302T133000
TRANSP:OPAQUE
SUMMARY:Open For Inspection: 18 Loftus Place, Sandstone Point
DESCRIPTION:Seaview Home with Heart and Soul - Karl Osswald and Remax Advanced present this wonderful architecturally designed home to the market for the very first time. Built and occupied by the original owners, the home is in immaculate condition. The home has 3 bedrooms, 2 bathrooms, 3 living areas, a study, 2 outdoor areas and a 3 car garage. 
The focal point of the home is the Atrium, visually connecting the home with lots of natural light and ambience. The master suite is large and has its own walk in robe, ensuite with double vanity, bath and shower and a very private fully enclosed courtyard with magnificent views of the sea. 3 living areas offer a multitude of options to meet the new owners needs. The solid timber kitchen is well equipped with dishwasher, large fridge space, induction cook top, walk in pantry and a  granite/composite benchtop.

Notable features:

3 Bedrooms (including master suite)
2 Bathrooms (including ensuite to master)
2 BIR and 1 WIR in master suite
Study
3 Living areas
Kitchen with dishwasher, induction cooktop
Walk in Pantry
Laundry
2 covered outdoor areas
3 car garage
2 split system airconditioners
Ceiling Fans throughout
Solar system (2kW)
Garden shed
Fully fenced
Rainwater Tanks (2)

To truly appreciate this home, call Karl on 0407 836 508 for a private inspection.


LAST-MODIFIED:20260425T024307
DTSTAMP:20260425T024307
DTSTART;TZID=Australia/:20190302T123000
LOCATION:18 Loftus Place Sandstone Point QLD 4511
URL:http://www.bribieproperty.com.au/20090710
SEQUENCE:0
END:VEVENT
END:VCALENDAR
