BEGIN:VCALENDAR
VERSION:2.0
PRODID:-//Apple Inc.//iCal 5.0.2//EN
CALSCALE:GREGORIAN
BEGIN:VTIMEZONE
TZID:Australia/
BEGIN:STANDARD
TZOFFSETFROM:+1100
RRULE:FREQ=YEARLY;BYMONTH=4;BYDAY=1SU
DTSTART:20080406T030000
TZNAME:
TZOFFSETTO:+
END:STANDARD
BEGIN:DAYLIGHT
TZOFFSETFROM:+
RRULE:FREQ=YEARLY;BYMONTH=10;BYDAY=1SU
DTSTART:20081005T020000
TZNAME:AEDT
TZOFFSETTO:+1100
END:DAYLIGHT
END:VTIMEZONE
BEGIN:VEVENT
CREATED:20260425T024434
UID:Property19420725Inspection51684369
DTEND;TZID=Australia/:20190302T143000
TRANSP:OPAQUE
SUMMARY:Open For Inspection: 2/14 Boyd St, WOORIM
DESCRIPTION:A  Blue  Chip  Lifestyle  Opportunity. - A  Blue  Chip  Lifestyle  Opportunity.  

When  it  comes  to  location  and  position  its  hard  to  go  past  2/14  Boyd  Street,  Woorim.  This  blue  chip  location  is  a  flat  130m  walk  across  the  park  to  enjoy  a  meal  or  beverage  at  the  surf  club,  less  than  250m  to  the  super  market,  cafes  or  the  surf  beach.  As  far  as  a  rare  position,  it  is  a  front,  ground  level  unit  that  is  light  filled  and  barely  has  a  step  from  street  to  inside  your  home.  The  configuration  of  the  unit  is  superb  with  a  large  separate  lounge  and  kitchen  dining  room  that  make  the  most  of  views  to  the  park.  The  kitchen  has  ample  cupboard  and  bench  space  that  caters  brilliantly  to  all  your  family  needs  and  incorporates  electric  cooking  and  a  new  dishwasher.  The  two  bedrooms  are  well  proportioned  and  accommodate  queen-sized  beds  easily  or  they  would  easily  be  set  up  with  a  couple  of  bunk  beds  for  a  larger  family.  As  a  bonus  there  is  a  single  lock  up  garage  and  three  split  system  air  conditioners.    What  a  place  to  retire  or  if  you're  a  savy  investor  that  wanted  to  make  the  most  of  the  unit  yourself,  this  would  make  a  great  holiday  rental.  Book  an  inspection  today  call  David  or  Mitch  and  we  will  be  happy  to  arrange  a  private  viewing.
LAST-MODIFIED:20260425T024434
DTSTAMP:20260425T024434
DTSTART;TZID=Australia/:20190302T140000
LOCATION:2/14 Boyd St WOORIM QLD 4507
URL:http://www.bribieproperty.com.au/19420725
SEQUENCE:0
END:VEVENT
END:VCALENDAR
