BEGIN:VCALENDAR
VERSION:2.0
PRODID:-//Apple Inc.//iCal 5.0.2//EN
CALSCALE:GREGORIAN
BEGIN:VTIMEZONE
TZID:Australia/
BEGIN:STANDARD
TZOFFSETFROM:+1100
RRULE:FREQ=YEARLY;BYMONTH=4;BYDAY=1SU
DTSTART:20080406T030000
TZNAME:
TZOFFSETTO:+
END:STANDARD
BEGIN:DAYLIGHT
TZOFFSETFROM:+
RRULE:FREQ=YEARLY;BYMONTH=10;BYDAY=1SU
DTSTART:20081005T020000
TZNAME:AEDT
TZOFFSETTO:+1100
END:DAYLIGHT
END:VTIMEZONE
BEGIN:VEVENT
CREATED:20260425T023951
UID:Property20174849Inspection51686610
DTEND;TZID=Australia/:20190302T133000
TRANSP:OPAQUE
SUMMARY:Open For Inspection: 7 Queen St, JIMBOOMBA
DESCRIPTION:1 year old home in A+ location - This home has recently turned 1 and it still feels fresh and new as the day it was handed over to the owners.... With quality finishes throughout and its location this home is your dream first home or investment property.

Situated on 1012m2 within walking distances to shops, parks, schools. This home also comes complete with Ducted air con, Stone benchtops, wired up to the max to accommodate the best and loudest T.V/stereo systems.... This is just a few of the enticing features this home has...

FEATURES
-	4 Bedrooms
-	2 Bathrooms
-	Combined living/dining area
-	Separate living area
-	Great sized kitchen with walk in pantry, good sized fridge space and          plenty of cupboard space
-	1012m2 of land with plenty of side access
-	2017 year built so still under builders' warranty
-	Potential rent of $400-$420 per week
-	Public and private schools all within walking distance
-	Local sporting clubs like Rugby league, Netball and Basketball just a          short     walk away
-	Shops across the road to accommodate all your needs
-	PLUS, MANY MORE

They say location is the key when purchasing real estate. Well you have struck GOLD with this one here. Also, it helps that the house is a quality home. 

LAST-MODIFIED:20260425T023951
DTSTAMP:20260425T023951
DTSTART;TZID=Australia/:20190302T130000
LOCATION:7 Queen St JIMBOOMBA QLD 4280
URL:http://www.weareproperty.com.au/20174849
SEQUENCE:0
END:VEVENT
END:VCALENDAR
