BEGIN:VCALENDAR
VERSION:2.0
PRODID:-//Apple Inc.//iCal 5.0.2//EN
CALSCALE:GREGORIAN
BEGIN:VTIMEZONE
TZID:Australia/
BEGIN:STANDARD
TZOFFSETFROM:+1100
RRULE:FREQ=YEARLY;BYMONTH=4;BYDAY=1SU
DTSTART:20080406T030000
TZNAME:
TZOFFSETTO:+
END:STANDARD
BEGIN:DAYLIGHT
TZOFFSETFROM:+
RRULE:FREQ=YEARLY;BYMONTH=10;BYDAY=1SU
DTSTART:20081005T020000
TZNAME:AEDT
TZOFFSETTO:+1100
END:DAYLIGHT
END:VTIMEZONE
BEGIN:VEVENT
CREATED:20260425T024124
UID:Property20168008Inspection51686628
DTEND;TZID=Australia/:20190302T102000
TRANSP:OPAQUE
SUMMARY:Open For Inspection: 50 Woolshed crt, JIMBOOMBA
DESCRIPTION:Bring your walkie talkies - You may laugh at this, but you will understand when you step foot inside this home for the first time.   You will be greeted with multiple large open living areas... You literally will need the walkie talkies to communicate with your family when you are in opposite ends of the house....


Outside you will be impressed as well with the 6x9 shed tucked away in the back corner of the property. The home itself is shielded away from the road by established gardens..... All this sits on 1 acre of land in a quiet street.


Space and tranquillity truly makes this a homely home.....


FEATURES

- 3 bedrooms

- 2 Bathrooms

- Multiple living areas

- Good sized patio area

- 6x9 shed

- Fully fenced

- Roof has recently been resprayed

- Air con, ceiling fans throughout the home

- Fireplace 

-1 acre of land

- PLUS MANY MORE



This is a great opportunity to grab a great home without breaking the budget. Perfect for all  buyer types


LAST-MODIFIED:20260425T024124
DTSTAMP:20260425T024124
DTSTART;TZID=Australia/:20190302T100000
LOCATION:50 Woolshed crt JIMBOOMBA QLD 4280
URL:http://www.weareproperty.com.au/20168008
SEQUENCE:0
END:VEVENT
END:VCALENDAR
