BEGIN:VCALENDAR
VERSION:2.0
PRODID:-//Apple Inc.//iCal 5.0.2//EN
CALSCALE:GREGORIAN
BEGIN:VTIMEZONE
TZID:Australia/
BEGIN:STANDARD
TZOFFSETFROM:+1100
RRULE:FREQ=YEARLY;BYMONTH=4;BYDAY=1SU
DTSTART:20080406T030000
TZNAME:
TZOFFSETTO:+
END:STANDARD
BEGIN:DAYLIGHT
TZOFFSETFROM:+
RRULE:FREQ=YEARLY;BYMONTH=10;BYDAY=1SU
DTSTART:20081005T020000
TZNAME:AEDT
TZOFFSETTO:+1100
END:DAYLIGHT
END:VTIMEZONE
BEGIN:VEVENT
CREATED:20260425T024029
UID:Property20089934Inspection51686635
DTEND;TZID=Australia/:20190302T092000
TRANSP:OPAQUE
SUMMARY:Open For Inspection: 99-123 Pennine Dr, SOUTH MACLEAN
DESCRIPTION:Owner needing a contract - Instructions are clear. Owner needs a contract in the next 2 weeks or they will remove the property of the market.... Disregard all previous pricing, submit your offer now for consideration.

This property is ideal for someone who is wanting space, good rental income or to just landbank and profit when the time comes. Or live in it and

FEATURES

Main House
- 3 Good sized bedrooms
- Modern kitchen with plenty of bench space and Gas cooker
- 1 Bathroom
- Large Open planned living areas
- Front and rear patio areas
- 5klw solar panels
-  Air con in every bedroom and lounge room
- Potential rent $400-$430 per week


2nd Dwelling

- 2 bedrooms
- 1 Bathroom
- Combined kitchen/living and dining
- Full length front patio
- Potential rent $280-$320 per week

Outside features
- 2.06 ha of useable land
- 2 sheds one is 6x6 the other is 6x9(powered)
- Above ground pool
- 2 dams


This is a great property for those wanting space and to earn good income from the rentals

LAST-MODIFIED:20260425T024029
DTSTAMP:20260425T024029
DTSTART;TZID=Australia/:20190302T090000
LOCATION:99-123 Pennine Dr SOUTH MACLEAN QLD 4280
URL:http://www.weareproperty.com.au/20089934
SEQUENCE:0
END:VEVENT
END:VCALENDAR
