BEGIN:VCALENDAR
VERSION:2.0
PRODID:-//Apple Inc.//iCal 5.0.2//EN
CALSCALE:GREGORIAN
BEGIN:VTIMEZONE
TZID:Australia/
BEGIN:STANDARD
TZOFFSETFROM:+1100
RRULE:FREQ=YEARLY;BYMONTH=4;BYDAY=1SU
DTSTART:20080406T030000
TZNAME:
TZOFFSETTO:+
END:STANDARD
BEGIN:DAYLIGHT
TZOFFSETFROM:+
RRULE:FREQ=YEARLY;BYMONTH=10;BYDAY=1SU
DTSTART:20081005T020000
TZNAME:AEDT
TZOFFSETTO:+1100
END:DAYLIGHT
END:VTIMEZONE
BEGIN:VEVENT
CREATED:20260425T024124
UID:Property20157300Inspection51686637
DTEND;TZID=Australia/:20190302T121500
TRANSP:OPAQUE
SUMMARY:Open For Inspection: 19-21 Cottonwood St, JIMBOOMBA
DESCRIPTION:Everything you could ask for and MORE.... - Situated in the thriving suburb of Flagstone, this resort styled property will certainly impress. The main home is large in all aspects. With the renovated bathrooms, laundry and impressively large kitchen. Which is certainly the heart and soul of the home. You and the whole family will be well catered for.

Stepping outside you will be greeted with a full-length rear patio which looks onto the VERY impressive pool area. The pool area consists of waterslide, water feature and built in spa. The kids will feel like they are on holidays at a 5-star resort. Add into the mix the tranquil well placed out landscaping.... All this sit behind a gated colorbond fence.

Also, the extended family and friends are catered for with a separate 2-bedroom, 1-bathroom accommodation. This comes complete with an impressive deck, air con and access straight to the pool area. The shed is next level as well, it can easily accommodate 4 cars, it comes complete with bar. 

This home is like living the resort style lifestyle all year round.... With so many more extras you will mad to pass this home up

FEATURES........

 MAIN HOME

-3 Bedrooms all with built ins
-2 Renovated bathrooms
-2 Living areas
-Large dining area
-Large kitchen with plenty of cupboard and bench space

2ND DWELLING

-2 Bathrooms
-1 Bathroom
-Combined kitchen, living and dining area
-BRAND NEW and never been lived in
-HUGE impressive deck

OUTSIDE FEATURES

-12/7 KLW Solar panels, never pay an electricity bill again
-Swimming pool comes complete with slide and water feature and built in spa
-Full length rear patio area with built in pizza oven
-Powered shed approx 6x12 with bar and concrete slab out front to accommodate more vehicles
-Colorbond fencing all the way around, comes with double gates
-Beautifully landscaped
-Smart wiring throughout
-2000mw fully serviced block
-Within easy walking distance to schools and shops
PLUS A LOT MORE..........

With more shops, private school, state of the art parks all being built. You will be proud to call Flagstone home. Also it makes it easier coming home to this amazing  property. It certainly is as impressive as the photos and features make it out to be....

LAST-MODIFIED:20260425T024124
DTSTAMP:20260425T024124
DTSTART;TZID=Australia/:20190302T114500
LOCATION:19-21 Cottonwood St JIMBOOMBA QLD 4280
URL:http://www.weareproperty.com.au/20157300
SEQUENCE:0
END:VEVENT
END:VCALENDAR
