BEGIN:VCALENDAR
VERSION:2.0
PRODID:-//Apple Inc.//iCal 5.0.2//EN
CALSCALE:GREGORIAN
BEGIN:VTIMEZONE
TZID:Australia/
BEGIN:STANDARD
TZOFFSETFROM:+1100
RRULE:FREQ=YEARLY;BYMONTH=4;BYDAY=1SU
DTSTART:20080406T030000
TZNAME:
TZOFFSETTO:+
END:STANDARD
BEGIN:DAYLIGHT
TZOFFSETFROM:+
RRULE:FREQ=YEARLY;BYMONTH=10;BYDAY=1SU
DTSTART:20081005T020000
TZNAME:AEDT
TZOFFSETTO:+1100
END:DAYLIGHT
END:VTIMEZONE
BEGIN:VEVENT
CREATED:20260425T024107
UID:Property20116061Inspection51692340
DTEND;TZID=Australia/:20190302T115000
TRANSP:OPAQUE
SUMMARY:Open For Inspection: 13/19-25 Melbury St, Browns Plains
DESCRIPTION:Great sized unit in major growth corridor - Whether you are downsizing, re-entering the market or looking to invest. You can't go past this property. Situated in a quiet pet friendly complex, close to major shops and roads, this low maintenance spacious unit will sure to impress.

You will be greeted by a double entry door way, which leads to the large combined living/dining kitchen area. This is not a small space by any means. Flowing effortlessly are the 3 VERY spacious bedrooms and 2 bathrooms. The master comes with a WIR. 

Not only is space NOT an issue it comes complete with Air cons, plenty of storage spaces. Also as an added bonus it comes with a good sized patio and small courtyard. Also you have a designated visitor parking space on top of your single lock up garage.
 With low body corps,good rental returns($320-$340 per week) this would suit an astute investor.  

This property is not one to skim past. It offers all the size a traditional home offers, with complex benefits....
FEATURES
-	3 bedrooms, all with built in robes. Mater has a WIR
-	2 bathrooms
-	2 car accom
-	Large living/dining area
-	Very functional kitchen with plenty of bench space
-	Air con
-	Low body Corps
-	PLUS MANY MORE


With a motivated seller needing it sold. I urge you to inspect the property and secure it before its too late.

LAST-MODIFIED:20260425T024107
DTSTAMP:20260425T024107
DTSTART;TZID=Australia/:20190302T113000
LOCATION:13/19-25 Melbury St Browns Plains QLD 4118
URL:http://www.weareproperty.com.au/20116061
SEQUENCE:0
END:VEVENT
END:VCALENDAR
