BEGIN:VCALENDAR
VERSION:2.0
PRODID:-//Apple Inc.//iCal 5.0.2//EN
CALSCALE:GREGORIAN
BEGIN:VTIMEZONE
TZID:Australia/
BEGIN:STANDARD
TZOFFSETFROM:+1100
RRULE:FREQ=YEARLY;BYMONTH=4;BYDAY=1SU
DTSTART:20080406T030000
TZNAME:
TZOFFSETTO:+
END:STANDARD
BEGIN:DAYLIGHT
TZOFFSETFROM:+
RRULE:FREQ=YEARLY;BYMONTH=10;BYDAY=1SU
DTSTART:20081005T020000
TZNAME:AEDT
TZOFFSETTO:+1100
END:DAYLIGHT
END:VTIMEZONE
BEGIN:VEVENT
CREATED:20260425T024107
UID:Property20164091Inspection51692344
DTEND;TZID=Australia/:20190302T133000
TRANSP:OPAQUE
SUMMARY:Open For Inspection: 5 Homestead Place, Brassall
DESCRIPTION:A BRASSALL DELIGHT - This property is absolutely perfect for a first home or ideal as an investment property, please make sure you do not wait as this will disappear soon! 

Four bedroom home, at an AFFORDABLE price !!!

The perfect family home awaits that one lucky buyer. All the hard work has been done here... 

Mum will just love watching the kids play, while she cooks up a family roast. 

# Family/Rumpus Room + TV Room. 
# Open Plan Kitchen & Dining areas. 
# Good size Master bedroom with built in & en-suite.
# 852sqm of low maintenance land
# 4 Bedrooms
# 2 Bathrooms
# Air conditioning system


So enquire now or see you at the open home to see more.
LAST-MODIFIED:20260425T024107
DTSTAMP:20260425T024107
DTSTART;TZID=Australia/:20190302T130000
LOCATION:5 Homestead Place Brassall QLD 4305
URL:http://www.weareproperty.com.au/20164091
SEQUENCE:0
END:VEVENT
END:VCALENDAR
