BEGIN:VCALENDAR
VERSION:2.0
PRODID:-//Apple Inc.//iCal 5.0.2//EN
CALSCALE:GREGORIAN
BEGIN:VTIMEZONE
TZID:Australia/
BEGIN:STANDARD
TZOFFSETFROM:+1100
RRULE:FREQ=YEARLY;BYMONTH=4;BYDAY=1SU
DTSTART:20080406T030000
TZNAME:
TZOFFSETTO:+
END:STANDARD
BEGIN:DAYLIGHT
TZOFFSETFROM:+
RRULE:FREQ=YEARLY;BYMONTH=10;BYDAY=1SU
DTSTART:20081005T020000
TZNAME:AEDT
TZOFFSETTO:+1100
END:DAYLIGHT
END:VTIMEZONE
BEGIN:VEVENT
CREATED:20260425T015426
UID:Property20425356Inspection52745077
DTEND;TZID=Australia/:20200229T103000
TRANSP:OPAQUE
SUMMARY:Open For Inspection: 14 Bremer Street, CHURCHILL
DESCRIPTION:SO MANY OPTIONS! - 
Whether you are first home buyer looking for a property that is easy to manage and priced where it won't break the bank or a savvy investor looking to add to your investment portfolio, you cannot go past this opportunity.

This low maintenance brick home offers 3 bedrooms, open plan lounge and dining area, air conditioning to the main living area, neat and tidy kitchen with an abundance of cupboard and bench space, spacious bathroom with separate toilet and an internal laundry. There is a massive outdoor entertaining space that runs the whole length of the home and covered car accommodation for 2 cars, all situated on a huge fully fenced 809m2 block with rear yard access.

Features include:

*   3 Bedrooms
*   Family bathroom with separate toilet
*   Air conditioning though out 
*   Security screens
*   Solar power 
*   2 Car accommodation 
*   Tidy kitchen with electric oven 
*   Fully fenced 809m2 block
*   Rear yard access

Plus Plus 

The home is close to public transport and is walking distance to the Churchill Primary State School, Bremer State High, and a short drive to the Amberley District School and the University of Queensland.

The Ipswich CBD is a short drive, as well as the Yamanto Shopping Centre and for those who need to commute, there is direct access to the  Cunningham Highway, RAAF Base Amberley and Brisbane.
 
Investors - This home will achieve approx $320 - $330 per week giving you a great return on your investment.

Be Quick, Call Emma Today! 

LAST-MODIFIED:20260425T015426
DTSTAMP:20260425T015426
DTSTART;TZID=Australia/:20200229T100000
LOCATION:14 Bremer Street CHURCHILL QLD 4305
URL:http://www.qteamrealty.com.au/20425356
SEQUENCE:0
END:VEVENT
END:VCALENDAR
