BEGIN:VCALENDAR
VERSION:2.0
PRODID:-//Apple Inc.//iCal 5.0.2//EN
CALSCALE:GREGORIAN
BEGIN:VTIMEZONE
TZID:Australia/
BEGIN:STANDARD
TZOFFSETFROM:+1100
RRULE:FREQ=YEARLY;BYMONTH=4;BYDAY=1SU
DTSTART:20080406T030000
TZNAME:
TZOFFSETTO:+
END:STANDARD
BEGIN:DAYLIGHT
TZOFFSETFROM:+
RRULE:FREQ=YEARLY;BYMONTH=10;BYDAY=1SU
DTSTART:20081005T020000
TZNAME:AEDT
TZOFFSETTO:+1100
END:DAYLIGHT
END:VTIMEZONE
BEGIN:VEVENT
CREATED:20260425T015506
UID:Property20392553Inspection52755980
DTEND;TZID=Australia/:20200229T130000
TRANSP:OPAQUE
SUMMARY:Open For Inspection: 60 Highmead Drive, Brassall
DESCRIPTION:High On the Hill in Brassall. - This immaculately presented family home is situated high on the hill in Highmead Drive Brassall. The home is beautifully landscaped and is extremely private, it has amazing street appeal, is surrounded by quality built homes and represents extreme value for money.

The home is ideal for first home buyers or those looking to downsize without compromise. There are three great sized bedrooms, multiple living areas, rumpus room / fourth bedroom,  beautiful kitchen with breakfast bar, two way bathroom with separate shower and bath, massive fully covered outdoor entertaining area completed with built in bar, and the backyard is huge, the gorgeous Bali Hut has been perfectly positioned to take in the mountain views and afternoon breezes.

Features Include: 

 *   Three great sized bedrooms with ceiling fans and built-in wardrobes
 *   Two-way bathroom (semi ensuite)
 *    Rumpus room / 4th bedroom 
 *   Multiple indoor living areas
 *   Air conditioning throughout 
 *   Spacious kitchen with breakfast bar and dishwasher
 *   Massive, fully covered alfresco area with built-in bar
 *   Bali Hut / Retreat 
 *   Fully fenced 705m2 block that backs onto a nature reserve, ensuring privacy

Plus .....

Highmead Drive Brassall is an ideal location, it offers easy access to the Warrego Highway, is a short stroll to public transport , walking distance to local Primary and High Schools and is just a few minutes drive to the Brassall Shopping Centre and Medical Precinct.

Be quick, do not delay, call Emma today !

LAST-MODIFIED:20260425T015506
DTSTAMP:20260425T015506
DTSTART;TZID=Australia/:20200229T123000
LOCATION:60 Highmead Drive Brassall QLD 4305
URL:http://www.qteamrealty.com.au/20392553
SEQUENCE:0
END:VEVENT
END:VCALENDAR
