BEGIN:VCALENDAR
VERSION:2.0
PRODID:-//Apple Inc.//iCal 5.0.2//EN
CALSCALE:GREGORIAN
BEGIN:VTIMEZONE
TZID:Australia/
BEGIN:STANDARD
TZOFFSETFROM:+1100
RRULE:FREQ=YEARLY;BYMONTH=4;BYDAY=1SU
DTSTART:20080406T030000
TZNAME:
TZOFFSETTO:+
END:STANDARD
BEGIN:DAYLIGHT
TZOFFSETFROM:+
RRULE:FREQ=YEARLY;BYMONTH=10;BYDAY=1SU
DTSTART:20081005T020000
TZNAME:AEDT
TZOFFSETTO:+1100
END:DAYLIGHT
END:VTIMEZONE
BEGIN:VEVENT
CREATED:20260425T015945
UID:Property20288427Inspection52756919
DTEND;TZID=Australia/:20200229T093000
TRANSP:OPAQUE
SUMMARY:Open For Inspection: 121 King St, BUDERIM
DESCRIPTION:Upmarket Triplex Buderim "On Top " ...Only 2 Left - These Buderim Townhouses were designed for lifestyle.With Council's decision to limit developments on Buderim, an opportunity like this may not come around again too soon.

No detail has been spared in the open plan kitchen with a Euro stove top, electric oven and beautiful neutrally-coloured stone bench tops & direct access from the garage to the kitchen .This home boasts three carpeted bedrooms & the main bedroom boasts a walk-in robe and ensuite, a large shower with easy-care tiles.

Located just a stroll away to the conveniences of bus stops, Wirreanda Park, IGA and local eateries, it is also centrally positioned in this Buderim project. Falling in the Buderim Mountain State Schools and Chancellor State College catchment areas it is also located within easy reach of your choice of private schools plus of course the Sunshine Coast University.







LAST-MODIFIED:20260425T015945
DTSTAMP:20260425T015945
DTSTART;TZID=Australia/:20200229T090000
LOCATION:121 King St BUDERIM QLD 4556
URL:http://www.onpointproperty.com.au/20288427
SEQUENCE:0
END:VEVENT
END:VCALENDAR
