BEGIN:VCALENDAR
VERSION:2.0
PRODID:-//Apple Inc.//iCal 5.0.2//EN
CALSCALE:GREGORIAN
BEGIN:VTIMEZONE
TZID:Australia/
BEGIN:STANDARD
TZOFFSETFROM:+1100
RRULE:FREQ=YEARLY;BYMONTH=4;BYDAY=1SU
DTSTART:20080406T030000
TZNAME:
TZOFFSETTO:+
END:STANDARD
BEGIN:DAYLIGHT
TZOFFSETFROM:+
RRULE:FREQ=YEARLY;BYMONTH=10;BYDAY=1SU
DTSTART:20081005T020000
TZNAME:AEDT
TZOFFSETTO:+1100
END:DAYLIGHT
END:VTIMEZONE
BEGIN:VEVENT
CREATED:20260425T015945
UID:Property20311378Inspection52757085
DTEND;TZID=Australia/:20200229T120000
TRANSP:OPAQUE
SUMMARY:Open For Inspection: 5 Oloway Cr, Alexandra Headland
DESCRIPTION:BAGS ARE PACKED !...Alex Beach Dual Occ on 807 Sqm Level - Opportunities like this don't come along every day! A spacious dual occupancy home on a large, flat block in Alexandra Headland, just minutes from the beach and all of the Sunshine Coast's hotspots. With a fusion of 80's style beach house and modern renovated granny flat, this property provides the potential for extra income as an AirB'n'B or permanent sub-let of the private dual area. 

The double brick construction will keep this home cool in the summer and warm in the winter, and with an elevated deck in your huge north - north easterly backyard, you'll love entertaining outdoors in your spacious slice of paradise. The open plan main occupancy has three large, bright bedrooms, with a huge private bathroom attached to the master. The fully self-contained granny flat boasts its own private bathroom, kitchenette and spacious living area, along with an extra-large bedroom. A 6x6 double carport ( with room for a additional shed) and huge side access gate provide plenty of covered car space for yourself, your guests or your tenants. 

 

Centrally located, this property is a stone's throw from everything the coast has to offer. A leisurely 1.2km walk or skate will bring you directly to Alex Beach, with the hotspots of Mooloolaba and Maroochydore just a few minutes in either direction. 

 

Whether you choose to rebuild or re-renovate,build a seperate residence ( 60 Sqm Studio/Granny Flat ) or simply enjoy the relaxed coastal atmosphere of the house as is, this property offers multitudes of potential.
LAST-MODIFIED:20260425T015945
DTSTAMP:20260425T015945
DTSTART;TZID=Australia/:20200229T113000
LOCATION:5 Oloway Cr Alexandra Headland QLD 4572
URL:http://www.onpointproperty.com.au/20311378
SEQUENCE:0
END:VEVENT
END:VCALENDAR
