BEGIN:VCALENDAR
VERSION:2.0
PRODID:-//Apple Inc.//iCal 5.0.2//EN
CALSCALE:GREGORIAN
BEGIN:VTIMEZONE
TZID:Australia/
BEGIN:STANDARD
TZOFFSETFROM:+1100
RRULE:FREQ=YEARLY;BYMONTH=4;BYDAY=1SU
DTSTART:20080406T030000
TZNAME:
TZOFFSETTO:+
END:STANDARD
BEGIN:DAYLIGHT
TZOFFSETFROM:+
RRULE:FREQ=YEARLY;BYMONTH=10;BYDAY=1SU
DTSTART:20081005T020000
TZNAME:AEDT
TZOFFSETTO:+1100
END:DAYLIGHT
END:VTIMEZONE
BEGIN:VEVENT
CREATED:20260425T020034
UID:Property17339685Inspection52757352
DTEND;TZID=Australia/:20200229T093000
TRANSP:OPAQUE
SUMMARY:Open For Inspection: 6 7-11 Fifth Avenue, MAROOCHYDORE
DESCRIPTION:Great Location ! - Leigh Roberts proudly offers to the market this extremely well positioned unit/townhouse here is the heart of Maroochydore. Stunning complex with resort style swimming pool to laze around or just minutes walk to the beach, shops and fine dining. Secure undercover car parking with 2 car tandem accommodation. Downstairs housing a kitchen with dishwasher, lounge and dining room with a powder room with toilet, hand basin with storage space plus private courtyard. Upstairs 3 bedrooms all with built ins and main bathroom with the master having a walk in robe and ensuite whilst enjoying a private deck overlooking the pool area. 
Available 19/9/24 Call today to view 0414407609

LAST-MODIFIED:20260425T020034
DTSTAMP:20260425T020034
DTSTART;TZID=Australia/:20200229T090000
LOCATION:6 7-11 Fifth Avenue MAROOCHYDORE QLD 4558
URL:http://www.onpointproperty.com.au/17339685
SEQUENCE:0
END:VEVENT
END:VCALENDAR
